BEGIN:VCALENDAR
VERSION:2.0
PRODID:-//Genesis Innovation Academy - ECPv6.9.0//NONSGML v1.0//EN
CALSCALE:GREGORIAN
METHOD:PUBLISH
X-ORIGINAL-URL:https://genesisinnovationacademy.org
X-WR-CALDESC:Events for Genesis Innovation Academy
REFRESH-INTERVAL;VALUE=DURATION:PT1H
X-Robots-Tag:noindex
X-PUBLISHED-TTL:PT1H
BEGIN:VTIMEZONE
TZID:America/New_York
BEGIN:DAYLIGHT
TZOFFSETFROM:-0500
TZOFFSETTO:-0400
TZNAME:EDT
DTSTART:20250309T070000
END:DAYLIGHT
BEGIN:STANDARD
TZOFFSETFROM:-0400
TZOFFSETTO:-0500
TZNAME:EST
DTSTART:20251102T060000
END:STANDARD
END:VTIMEZONE
BEGIN:VEVENT
DTSTART;TZID=America/New_York:20250115T180000
DTEND;TZID=America/New_York:20250115T200000
DTSTAMP:20260419T084539
CREATED:20200811T212158Z
LAST-MODIFIED:20250203T191258Z
UID:9860-1736964000-1736971200@genesisinnovationacademy.org
SUMMARY:Development Committee
DESCRIPTION:Click here for meeting. 
URL:https://genesisinnovationacademy.org/event/governance-committee-meeting-2025-01-15-2/2025-01-15/
LOCATION:Online
CATEGORIES:Development Meeting
END:VEVENT
BEGIN:VEVENT
DTSTART;TZID=America/New_York:20250114T180000
DTEND;TZID=America/New_York:20250114T200000
DTSTAMP:20260419T084539
CREATED:20200811T212158Z
LAST-MODIFIED:20250203T191258Z
UID:8955-1736877600-1736884800@genesisinnovationacademy.org
SUMMARY:Development Committee
DESCRIPTION:Click here for meeting. 
URL:https://genesisinnovationacademy.org/event/governance-committee-meeting-2025-01-15-2/2025-01-14/
LOCATION:Online
CATEGORIES:Development Meeting
END:VEVENT
END:VCALENDAR