BEGIN:VCALENDAR
VERSION:2.0
PRODID:-//Genesis Innovation Academy - ECPv6.9.0//NONSGML v1.0//EN
CALSCALE:GREGORIAN
METHOD:PUBLISH
X-ORIGINAL-URL:https://genesisinnovationacademy.org
X-WR-CALDESC:Events for Genesis Innovation Academy
REFRESH-INTERVAL;VALUE=DURATION:PT1H
X-Robots-Tag:noindex
X-PUBLISHED-TTL:PT1H
BEGIN:VTIMEZONE
TZID:America/New_York
BEGIN:DAYLIGHT
TZOFFSETFROM:-0500
TZOFFSETTO:-0400
TZNAME:EDT
DTSTART:20250309T070000
END:DAYLIGHT
BEGIN:STANDARD
TZOFFSETFROM:-0400
TZOFFSETTO:-0500
TZNAME:EST
DTSTART:20251102T060000
END:STANDARD
END:VTIMEZONE
BEGIN:VEVENT
DTSTART;TZID=America/New_York:20251218T180000
DTEND;TZID=America/New_York:20251218T200000
DTSTAMP:20260422T064452
CREATED:20200811T210920Z
LAST-MODIFIED:20251212T164806Z
UID:10752-1766080800-1766088000@genesisinnovationacademy.org
SUMMARY:Board Meeting(In Person)
DESCRIPTION:This meeting will be in person in the cafeteria at Genesis Innovation Academy. Start time will be 6pm.
URL:https://genesisinnovationacademy.org/event/august-27-2020-board-meeting-2025-12-25/
LOCATION:Genesis Innovation Academy\, 1049 Custer Ave SE\, Atlanta\, Georgia\, 30316
CATEGORIES:Board Meetings
END:VEVENT
END:VCALENDAR