BEGIN:VCALENDAR
VERSION:2.0
PRODID:-//Genesis Innovation Academy - ECPv6.9.0//NONSGML v1.0//EN
CALSCALE:GREGORIAN
METHOD:PUBLISH
X-ORIGINAL-URL:https://genesisinnovationacademy.org
X-WR-CALDESC:Events for Genesis Innovation Academy
REFRESH-INTERVAL;VALUE=DURATION:PT1H
X-Robots-Tag:noindex
X-PUBLISHED-TTL:PT1H
BEGIN:VTIMEZONE
TZID:America/New_York
BEGIN:DAYLIGHT
TZOFFSETFROM:-0500
TZOFFSETTO:-0400
TZNAME:EDT
DTSTART:20270314T070000
END:DAYLIGHT
BEGIN:STANDARD
TZOFFSETFROM:-0400
TZOFFSETTO:-0500
TZNAME:EST
DTSTART:20271107T060000
END:STANDARD
END:VTIMEZONE
BEGIN:VEVENT
DTSTART;TZID=America/New_York:20270615T180000
DTEND;TZID=America/New_York:20270615T200000
DTSTAMP:20260425T182948
CREATED:20250513T124148Z
LAST-MODIFIED:20250925T162607Z
UID:10463-1813082400-1813089600@genesisinnovationacademy.org
SUMMARY:Finance Committee Meeting
DESCRIPTION:Click here to attend meeting
URL:https://genesisinnovationacademy.org/event/finance-committee-meeting-3/2027-06-15/
CATEGORIES:Commitee Meetings,Finance Commitee
END:VEVENT
END:VCALENDAR