BEGIN:VCALENDAR
VERSION:2.0
PRODID:-//Genesis Innovation Academy - ECPv6.9.0//NONSGML v1.0//EN
CALSCALE:GREGORIAN
METHOD:PUBLISH
X-ORIGINAL-URL:https://genesisinnovationacademy.org
X-WR-CALDESC:Events for Genesis Innovation Academy
REFRESH-INTERVAL;VALUE=DURATION:PT1H
X-Robots-Tag:noindex
X-PUBLISHED-TTL:PT1H
BEGIN:VTIMEZONE
TZID:America/New_York
BEGIN:DAYLIGHT
TZOFFSETFROM:-0500
TZOFFSETTO:-0400
TZNAME:EDT
DTSTART:20250309T070000
END:DAYLIGHT
BEGIN:STANDARD
TZOFFSETFROM:-0400
TZOFFSETTO:-0500
TZNAME:EST
DTSTART:20251102T060000
END:STANDARD
BEGIN:DAYLIGHT
TZOFFSETFROM:-0500
TZOFFSETTO:-0400
TZNAME:EDT
DTSTART:20260308T070000
END:DAYLIGHT
BEGIN:STANDARD
TZOFFSETFROM:-0400
TZOFFSETTO:-0500
TZNAME:EST
DTSTART:20261101T060000
END:STANDARD
END:VTIMEZONE
BEGIN:VEVENT
DTSTART;TZID=America/New_York:20260421T180000
DTEND;TZID=America/New_York:20260421T200000
DTSTAMP:20260425T164351
CREATED:20250513T124148Z
LAST-MODIFIED:20250925T162554Z
UID:10173-1776794400-1776801600@genesisinnovationacademy.org
SUMMARY:Finance Committee Meeting
DESCRIPTION:Click here to attend meeting
URL:https://genesisinnovationacademy.org/event/finance-committee-meeting-3/2026-04-21/
CATEGORIES:Commitee Meetings,Finance Commitee
END:VEVENT
BEGIN:VEVENT
DTSTART;TZID=America/New_York:20260420T093000
DTEND;TZID=America/New_York:20260420T110000
DTSTAMP:20260425T164351
CREATED:20250513T125816Z
LAST-MODIFIED:20260413T140208Z
UID:10270-1776677400-1776682800@genesisinnovationacademy.org
SUMMARY:Academic Committee Meeting
DESCRIPTION:Microsoft Teams meeting \nJoin: https://teams.microsoft.com/meet/23844787773159?p=0bpnAWi5BE69ZERcdn \nMeeting ID: 238 447 877 731 59 \nPasscode: Zn7ec3Go
URL:https://genesisinnovationacademy.org/event/academic-committee-meeting-2-2025-09-08-2026-04-13/
CATEGORIES:Academic Excellence Committee,Commitee Meetings
END:VEVENT
BEGIN:VEVENT
DTSTART;TZID=America/New_York:20260415T170000
DTEND;TZID=America/New_York:20260415T190000
DTSTAMP:20260425T164351
CREATED:20250513T124540Z
LAST-MODIFIED:20260413T140337Z
UID:10195-1776272400-1776279600@genesisinnovationacademy.org
SUMMARY:Governance Committee Meeting
DESCRIPTION:Microsoft Teams meeting \nJoin: https://teams.microsoft.com/meet/24743675624271?p=7t3OMBiaow7Zxl5hYM \nMeeting ID: 247 436 756 242 71 \nPasscode: KA7fk7Tb
URL:https://genesisinnovationacademy.org/event/governance-committee-meeting-3/2026-04-15/
CATEGORIES:Commitee Meetings,Governance Committee
END:VEVENT
BEGIN:VEVENT
DTSTART;TZID=America/New_York:20260414T180000
DTEND;TZID=America/New_York:20260414T200000
DTSTAMP:20260425T164351
CREATED:20250513T125206Z
LAST-MODIFIED:20250925T162837Z
UID:10221-1776189600-1776196800@genesisinnovationacademy.org
SUMMARY:Development Committee Meeting
DESCRIPTION:Click here to attend meeting
URL:https://genesisinnovationacademy.org/event/development-committee-meeting-2-2025-06-10/2026-04-14/
CATEGORIES:Commitee Meetings,Development Meeting
END:VEVENT
BEGIN:VEVENT
DTSTART;TZID=America/New_York:20260318T170000
DTEND;TZID=America/New_York:20260318T190000
DTSTAMP:20260425T164351
CREATED:20250513T124540Z
LAST-MODIFIED:20260413T140337Z
UID:10194-1773853200-1773860400@genesisinnovationacademy.org
SUMMARY:Governance Committee Meeting
DESCRIPTION:Microsoft Teams meeting \nJoin: https://teams.microsoft.com/meet/24743675624271?p=7t3OMBiaow7Zxl5hYM \nMeeting ID: 247 436 756 242 71 \nPasscode: KA7fk7Tb
URL:https://genesisinnovationacademy.org/event/governance-committee-meeting-3/2026-03-18/
CATEGORIES:Commitee Meetings,Governance Committee
END:VEVENT
BEGIN:VEVENT
DTSTART;TZID=America/New_York:20260317T180000
DTEND;TZID=America/New_York:20260317T200000
DTSTAMP:20260425T164351
CREATED:20250513T124148Z
LAST-MODIFIED:20250925T162554Z
UID:10172-1773770400-1773777600@genesisinnovationacademy.org
SUMMARY:Finance Committee Meeting
DESCRIPTION:Click here to attend meeting
URL:https://genesisinnovationacademy.org/event/finance-committee-meeting-3/2026-03-17/
CATEGORIES:Commitee Meetings,Finance Commitee
END:VEVENT
BEGIN:VEVENT
DTSTART;TZID=America/New_York:20260310T180000
DTEND;TZID=America/New_York:20260310T200000
DTSTAMP:20260425T164351
CREATED:20250513T125206Z
LAST-MODIFIED:20250925T162837Z
UID:10219-1773165600-1773172800@genesisinnovationacademy.org
SUMMARY:Development Committee Meeting
DESCRIPTION:Click here to attend meeting
URL:https://genesisinnovationacademy.org/event/development-committee-meeting-2-2025-06-10/2026-03-10/
CATEGORIES:Commitee Meetings,Development Meeting
END:VEVENT
BEGIN:VEVENT
DTSTART;TZID=America/New_York:20260309T093000
DTEND;TZID=America/New_York:20260309T110000
DTSTAMP:20260425T164351
CREATED:20250513T125816Z
LAST-MODIFIED:20260309T151428Z
UID:10269-1773048600-1773054000@genesisinnovationacademy.org
SUMMARY:Academic Committee Meeting(Cancelled)
DESCRIPTION:Click here to attend meeting
URL:https://genesisinnovationacademy.org/event/academic-committee-meeting-2-2025-09-08-2026-03-09/
CATEGORIES:Academic Excellence Committee,Commitee Meetings
END:VEVENT
BEGIN:VEVENT
DTSTART;TZID=America/New_York:20260218T170000
DTEND;TZID=America/New_York:20260218T190000
DTSTAMP:20260425T164351
CREATED:20250513T124540Z
LAST-MODIFIED:20260214T003814Z
UID:10193-1771434000-1771441200@genesisinnovationacademy.org
SUMMARY:Governance Committee Meeting(Canceled)
DESCRIPTION:Click here to attend meeting
URL:https://genesisinnovationacademy.org/event/governance-committee-meeting-3-2026-02-18/
CATEGORIES:Commitee Meetings,Governance Committee
END:VEVENT
BEGIN:VEVENT
DTSTART;TZID=America/New_York:20260217T180000
DTEND;TZID=America/New_York:20260217T200000
DTSTAMP:20260425T164351
CREATED:20250513T124148Z
LAST-MODIFIED:20260214T003722Z
UID:10171-1771351200-1771358400@genesisinnovationacademy.org
SUMMARY:Finance Committee Meeting(Cancelled)
DESCRIPTION:Click here to attend meeting
URL:https://genesisinnovationacademy.org/event/finance-committee-meeting-3-2026-02-17/
CATEGORIES:Commitee Meetings,Finance Commitee
END:VEVENT
BEGIN:VEVENT
DTSTART;TZID=America/New_York:20260210T180000
DTEND;TZID=America/New_York:20260210T200000
DTSTAMP:20260425T164351
CREATED:20250513T125206Z
LAST-MODIFIED:20260210T131350Z
UID:10218-1770746400-1770753600@genesisinnovationacademy.org
SUMMARY:Development Committee Meeting(Canceled)
DESCRIPTION:Click here to attend meeting
URL:https://genesisinnovationacademy.org/event/development-committee-meeting-2-2025-06-10-2026-02-10/
CATEGORIES:Commitee Meetings,Development Meeting
END:VEVENT
BEGIN:VEVENT
DTSTART;TZID=America/New_York:20260209T093000
DTEND;TZID=America/New_York:20260209T110000
DTSTAMP:20260425T164351
CREATED:20250513T125816Z
LAST-MODIFIED:20260209T132738Z
UID:10268-1770629400-1770634800@genesisinnovationacademy.org
SUMMARY:Academic Committee Meeting(Cancelled)
DESCRIPTION:Click here to attend meeting
URL:https://genesisinnovationacademy.org/event/academic-committee-meeting-2-2025-09-08-2026-02-09/
CATEGORIES:Academic Excellence Committee,Commitee Meetings
END:VEVENT
BEGIN:VEVENT
DTSTART;TZID=America/New_York:20260121T170000
DTEND;TZID=America/New_York:20260121T190000
DTSTAMP:20260425T164351
CREATED:20250513T124540Z
LAST-MODIFIED:20260413T140337Z
UID:10192-1769014800-1769022000@genesisinnovationacademy.org
SUMMARY:Governance Committee Meeting
DESCRIPTION:Microsoft Teams meeting \nJoin: https://teams.microsoft.com/meet/24743675624271?p=7t3OMBiaow7Zxl5hYM \nMeeting ID: 247 436 756 242 71 \nPasscode: KA7fk7Tb
URL:https://genesisinnovationacademy.org/event/governance-committee-meeting-3/2026-01-21/
CATEGORIES:Commitee Meetings,Governance Committee
END:VEVENT
BEGIN:VEVENT
DTSTART;TZID=America/New_York:20260120T180000
DTEND;TZID=America/New_York:20260120T200000
DTSTAMP:20260425T164351
CREATED:20250513T124148Z
LAST-MODIFIED:20250925T162554Z
UID:10170-1768932000-1768939200@genesisinnovationacademy.org
SUMMARY:Finance Committee Meeting
DESCRIPTION:Click here to attend meeting
URL:https://genesisinnovationacademy.org/event/finance-committee-meeting-3/2026-01-20/
CATEGORIES:Commitee Meetings,Finance Commitee
END:VEVENT
BEGIN:VEVENT
DTSTART;TZID=America/New_York:20260113T180000
DTEND;TZID=America/New_York:20260113T200000
DTSTAMP:20260425T164351
CREATED:20250513T125206Z
LAST-MODIFIED:20250925T162836Z
UID:10217-1768327200-1768334400@genesisinnovationacademy.org
SUMMARY:Development Committee Meeting
DESCRIPTION:Click here to attend meeting
URL:https://genesisinnovationacademy.org/event/development-committee-meeting-2-2025-06-10/2026-01-13/
CATEGORIES:Commitee Meetings,Development Meeting
END:VEVENT
BEGIN:VEVENT
DTSTART;TZID=America/New_York:20260112T093000
DTEND;TZID=America/New_York:20260112T110000
DTSTAMP:20260425T164351
CREATED:20250513T125816Z
LAST-MODIFIED:20260109T210156Z
UID:10267-1768210200-1768215600@genesisinnovationacademy.org
SUMMARY:Academic Committee Meeting(Cancelled)
DESCRIPTION:Click here to attend meeting
URL:https://genesisinnovationacademy.org/event/academic-committee-meeting-2-2025-09-08-2026-01-12/
CATEGORIES:Academic Excellence Committee,Commitee Meetings
END:VEVENT
BEGIN:VEVENT
DTSTART;TZID=America/New_York:20251209T180000
DTEND;TZID=America/New_York:20251209T200000
DTSTAMP:20260425T164351
CREATED:20250513T124148Z
LAST-MODIFIED:20251209T220706Z
UID:10169-1765303200-1765310400@genesisinnovationacademy.org
SUMMARY:Finance Committee Meeting
DESCRIPTION:Click here to join meeting
URL:https://genesisinnovationacademy.org/event/finance-committee-meeting-3-2025-12-16/
CATEGORIES:Commitee Meetings,Finance Commitee
END:VEVENT
BEGIN:VEVENT
DTSTART;TZID=America/New_York:20251118T180000
DTEND;TZID=America/New_York:20251118T200000
DTSTAMP:20260425T164351
CREATED:20250513T124148Z
LAST-MODIFIED:20250925T162553Z
UID:10168-1763488800-1763496000@genesisinnovationacademy.org
SUMMARY:Finance Committee Meeting
DESCRIPTION:Click here to attend meeting
URL:https://genesisinnovationacademy.org/event/finance-committee-meeting-3/2025-11-18/
CATEGORIES:Commitee Meetings,Finance Commitee
END:VEVENT
BEGIN:VEVENT
DTSTART;TZID=America/New_York:20251112T170000
DTEND;TZID=America/New_York:20251112T190000
DTSTAMP:20260425T164351
CREATED:20250513T124540Z
LAST-MODIFIED:20250612T143209Z
UID:10190-1762966800-1762974000@genesisinnovationacademy.org
SUMMARY:Governance Committee Meeting
DESCRIPTION:
URL:https://genesisinnovationacademy.org/event/governance-committee-meeting-3-2025-11-19/
CATEGORIES:Commitee Meetings,Governance Committee
END:VEVENT
BEGIN:VEVENT
DTSTART;TZID=America/New_York:20251111T180000
DTEND;TZID=America/New_York:20251111T200000
DTSTAMP:20260425T164351
CREATED:20250513T125206Z
LAST-MODIFIED:20251110T175105Z
UID:10215-1762884000-1762891200@genesisinnovationacademy.org
SUMMARY:Development Committee Meeting(Cancelled)
DESCRIPTION:Click here to attend meeting
URL:https://genesisinnovationacademy.org/event/development-committee-meeting-2-2025-06-10-2025-11-11/
CATEGORIES:Commitee Meetings,Development Meeting
END:VEVENT
BEGIN:VEVENT
DTSTART;TZID=America/New_York:20251110T093000
DTEND;TZID=America/New_York:20251110T110000
DTSTAMP:20260425T164351
CREATED:20250513T125816Z
LAST-MODIFIED:20251110T142542Z
UID:10265-1762767000-1762772400@genesisinnovationacademy.org
SUMMARY:Academic Committee Meeting(Cancelled)
DESCRIPTION:Click here to attend meeting
URL:https://genesisinnovationacademy.org/event/academic-committee-meeting-2-2025-09-08-2025-11-10/
CATEGORIES:Academic Excellence Committee,Commitee Meetings
END:VEVENT
BEGIN:VEVENT
DTSTART;TZID=America/New_York:20251021T180000
DTEND;TZID=America/New_York:20251021T200000
DTSTAMP:20260425T164351
CREATED:20250513T124148Z
LAST-MODIFIED:20250925T162553Z
UID:10167-1761069600-1761076800@genesisinnovationacademy.org
SUMMARY:Finance Committee Meeting
DESCRIPTION:Click here to attend meeting
URL:https://genesisinnovationacademy.org/event/finance-committee-meeting-3/2025-10-21/
CATEGORIES:Commitee Meetings,Finance Commitee
END:VEVENT
BEGIN:VEVENT
DTSTART;TZID=America/New_York:20251015T170000
DTEND;TZID=America/New_York:20251015T190000
DTSTAMP:20260425T164351
CREATED:20250513T124540Z
LAST-MODIFIED:20260413T140336Z
UID:10189-1760547600-1760554800@genesisinnovationacademy.org
SUMMARY:Governance Committee Meeting
DESCRIPTION:Microsoft Teams meeting \nJoin: https://teams.microsoft.com/meet/24743675624271?p=7t3OMBiaow7Zxl5hYM \nMeeting ID: 247 436 756 242 71 \nPasscode: KA7fk7Tb
URL:https://genesisinnovationacademy.org/event/governance-committee-meeting-3/2025-10-15/
CATEGORIES:Commitee Meetings,Governance Committee
END:VEVENT
BEGIN:VEVENT
DTSTART;TZID=America/New_York:20251014T180000
DTEND;TZID=America/New_York:20251014T200000
DTSTAMP:20260425T164351
CREATED:20250513T125206Z
LAST-MODIFIED:20250925T162834Z
UID:10214-1760464800-1760472000@genesisinnovationacademy.org
SUMMARY:Development Committee Meeting
DESCRIPTION:Click here to attend meeting
URL:https://genesisinnovationacademy.org/event/development-committee-meeting-2-2025-06-10/2025-10-14/
CATEGORIES:Commitee Meetings,Development Meeting
END:VEVENT
BEGIN:VEVENT
DTSTART;TZID=America/New_York:20251013T093000
DTEND;TZID=America/New_York:20251013T110000
DTSTAMP:20260425T164351
CREATED:20250513T125816Z
LAST-MODIFIED:20260413T140242Z
UID:10264-1760347800-1760353200@genesisinnovationacademy.org
SUMMARY:Academic Committee Meeting
DESCRIPTION:Microsoft Teams meeting \nJoin: https://teams.microsoft.com/meet/23844787773159?p=0bpnAWi5BE69ZERcdn \nMeeting ID: 238 447 877 731 59 \nPasscode: Zn7ec3Go
URL:https://genesisinnovationacademy.org/event/academic-committee-meeting-2-2025-09-08/2025-10-13/
CATEGORIES:Academic Excellence Committee,Commitee Meetings
END:VEVENT
BEGIN:VEVENT
DTSTART;TZID=America/New_York:20250917T170000
DTEND;TZID=America/New_York:20250917T190000
DTSTAMP:20260425T164351
CREATED:20250513T124540Z
LAST-MODIFIED:20260413T140336Z
UID:10188-1758128400-1758135600@genesisinnovationacademy.org
SUMMARY:Governance Committee Meeting
DESCRIPTION:Microsoft Teams meeting \nJoin: https://teams.microsoft.com/meet/24743675624271?p=7t3OMBiaow7Zxl5hYM \nMeeting ID: 247 436 756 242 71 \nPasscode: KA7fk7Tb
URL:https://genesisinnovationacademy.org/event/governance-committee-meeting-3/2025-09-17/
CATEGORIES:Commitee Meetings,Governance Committee
END:VEVENT
BEGIN:VEVENT
DTSTART;TZID=America/New_York:20250916T180000
DTEND;TZID=America/New_York:20250916T200000
DTSTAMP:20260425T164351
CREATED:20250513T124148Z
LAST-MODIFIED:20250925T162553Z
UID:10166-1758045600-1758052800@genesisinnovationacademy.org
SUMMARY:Finance Committee Meeting
DESCRIPTION:Click here to attend meeting
URL:https://genesisinnovationacademy.org/event/finance-committee-meeting-3/2025-09-16/
CATEGORIES:Commitee Meetings,Finance Commitee
END:VEVENT
BEGIN:VEVENT
DTSTART;TZID=America/New_York:20250909T180000
DTEND;TZID=America/New_York:20250909T200000
DTSTAMP:20260425T164351
CREATED:20250513T125206Z
LAST-MODIFIED:20250925T162833Z
UID:10213-1757440800-1757448000@genesisinnovationacademy.org
SUMMARY:Development Committee Meeting
DESCRIPTION:Click here to attend meeting
URL:https://genesisinnovationacademy.org/event/development-committee-meeting-2-2025-06-10/2025-09-09/
CATEGORIES:Commitee Meetings,Development Meeting
END:VEVENT
BEGIN:VEVENT
DTSTART;TZID=America/New_York:20250908T093000
DTEND;TZID=America/New_York:20250908T110000
DTSTAMP:20260425T164351
CREATED:20250513T125816Z
LAST-MODIFIED:20260413T140242Z
UID:10263-1757323800-1757329200@genesisinnovationacademy.org
SUMMARY:Academic Committee Meeting
DESCRIPTION:Microsoft Teams meeting \nJoin: https://teams.microsoft.com/meet/23844787773159?p=0bpnAWi5BE69ZERcdn \nMeeting ID: 238 447 877 731 59 \nPasscode: Zn7ec3Go
URL:https://genesisinnovationacademy.org/event/academic-committee-meeting-2-2025-09-08/2025-09-08/
CATEGORIES:Academic Excellence Committee,Commitee Meetings
END:VEVENT
BEGIN:VEVENT
DTSTART;TZID=America/New_York:20250820T170000
DTEND;TZID=America/New_York:20250820T190000
DTSTAMP:20260425T164351
CREATED:20250513T124540Z
LAST-MODIFIED:20260413T140335Z
UID:10187-1755709200-1755716400@genesisinnovationacademy.org
SUMMARY:Governance Committee Meeting
DESCRIPTION:Microsoft Teams meeting \nJoin: https://teams.microsoft.com/meet/24743675624271?p=7t3OMBiaow7Zxl5hYM \nMeeting ID: 247 436 756 242 71 \nPasscode: KA7fk7Tb
URL:https://genesisinnovationacademy.org/event/governance-committee-meeting-3/2025-08-20/
CATEGORIES:Commitee Meetings,Governance Committee
END:VEVENT
END:VCALENDAR