BEGIN:VCALENDAR
VERSION:2.0
PRODID:-//Genesis Innovation Academy - ECPv6.9.0//NONSGML v1.0//EN
CALSCALE:GREGORIAN
METHOD:PUBLISH
X-WR-CALNAME:Genesis Innovation Academy
X-ORIGINAL-URL:https://genesisinnovationacademy.org
X-WR-CALDESC:Events for Genesis Innovation Academy
REFRESH-INTERVAL;VALUE=DURATION:PT1H
X-Robots-Tag:noindex
X-PUBLISHED-TTL:PT1H
BEGIN:VTIMEZONE
TZID:America/New_York
BEGIN:DAYLIGHT
TZOFFSETFROM:-0500
TZOFFSETTO:-0400
TZNAME:EDT
DTSTART:20240310T070000
END:DAYLIGHT
BEGIN:STANDARD
TZOFFSETFROM:-0400
TZOFFSETTO:-0500
TZNAME:EST
DTSTART:20241103T060000
END:STANDARD
TZID:UTC
BEGIN:STANDARD
TZOFFSETFROM:+0000
TZOFFSETTO:+0000
TZNAME:UTC
DTSTART:20240101T000000
END:STANDARD
END:VTIMEZONE
BEGIN:VEVENT
DTSTART;TZID=America/New_York:20241111T180000
DTEND;TZID=America/New_York:20241111T210000
DTSTAMP:20260422T080312
CREATED:20240912T162114Z
LAST-MODIFIED:20240912T162114Z
UID:9213-1731348000-1731358800@genesisinnovationacademy.org
SUMMARY:Boys Basketball Game vs Best Academy
DESCRIPTION:
URL:https://genesisinnovationacademy.org/event/boys-basketball-game-vs-best-academy/
LOCATION:CSK/BEST\, 1190 Northwest Dr NW\, Atlanta\, GA\, 30318\, United States
CATEGORIES:Athletics,Basketball
END:VEVENT
BEGIN:VEVENT
DTSTART;TZID=America/New_York:20241111T093000
DTEND;TZID=America/New_York:20241111T110000
DTSTAMP:20260422T080312
CREATED:20240507T162631Z
LAST-MODIFIED:20240626T135043Z
UID:8575-1731317400-1731322800@genesisinnovationacademy.org
SUMMARY:Academic Committee Meeting
DESCRIPTION:Click here to access the meeting. 
URL:https://genesisinnovationacademy.org/event/academic-committee-meeting/2024-11-11/
LOCATION:GA\, United States
CATEGORIES:Academic Excellence Committee,Commitee Meetings
END:VEVENT
BEGIN:VEVENT
DTSTART;TZID=America/New_York:20241107T090000
DTEND;TZID=America/New_York:20241107T110000
DTSTAMP:20260422T080312
CREATED:20240912T161535Z
LAST-MODIFIED:20240912T161535Z
UID:9211-1730970000-1730977200@genesisinnovationacademy.org
SUMMARY:Scholar of The Month Recognition
DESCRIPTION:
URL:https://genesisinnovationacademy.org/event/scholar-of-the-month-recognition-3/
LOCATION:Cafeteria\, 1049 Custer Ave\, Atlanta\, GA\, 30316\, United States
END:VEVENT
BEGIN:VEVENT
DTSTART;TZID=America/New_York:20241102T090000
DTEND;TZID=America/New_York:20241102T103000
DTSTAMP:20260422T080312
CREATED:20240912T161238Z
LAST-MODIFIED:20240912T161238Z
UID:9209-1730538000-1730543400@genesisinnovationacademy.org
SUMMARY:U7 Soccer – Warriors vs Kindezi West Green
DESCRIPTION:
URL:https://genesisinnovationacademy.org/event/u7-soccer-warriors-vs-kindezi-west-green/
LOCATION:Cheney Stadium\, 741 Connally St SE\, Atlanta\, GA\, 30315\, United States
CATEGORIES:Athletics,Soccer
END:VEVENT
BEGIN:VEVENT
DTSTART;TZID=America/New_York:20241027T130000
DTEND;TZID=America/New_York:20241027T153000
DTSTAMP:20260422T080312
CREATED:20240912T161007Z
LAST-MODIFIED:20240912T161007Z
UID:9207-1730034000-1730043000@genesisinnovationacademy.org
SUMMARY:GIA Boys vs Resurgence Hall Charter
DESCRIPTION:
URL:https://genesisinnovationacademy.org/event/gia-boys-vs-resurgence-hall-charter/
LOCATION:Mt. Zion High School(Main Field)\, 2535 Mt. Zion PKWY\, Jonesboro\, GA\, 30236\, United States
CATEGORIES:Athletics,Flag Football
END:VEVENT
BEGIN:VEVENT
DTSTART;TZID=America/New_York:20241026T190000
DTEND;TZID=America/New_York:20241026T230000
DTSTAMP:20260422T080312
CREATED:20240912T160755Z
LAST-MODIFIED:20240912T160755Z
UID:9205-1729969200-1729983600@genesisinnovationacademy.org
SUMMARY:Homecoming Dance
DESCRIPTION:
URL:https://genesisinnovationacademy.org/event/homecoming-dance/
LOCATION:GA\, United States
END:VEVENT
BEGIN:VEVENT
DTSTART;TZID=America/New_York:20241026T130000
DTEND;TZID=America/New_York:20241026T153000
DTSTAMP:20260422T080312
CREATED:20240912T160708Z
LAST-MODIFIED:20240912T160708Z
UID:9203-1729947600-1729956600@genesisinnovationacademy.org
SUMMARY:GIA Boys vs Dubois Integrity Academy
DESCRIPTION:
URL:https://genesisinnovationacademy.org/event/gia-boys-vs-dubois-integrity-academy/
LOCATION:Mt. Zion High School(Main Field)\, 2535 Mt. Zion PKWY\, Jonesboro\, GA\, 30236\, United States
CATEGORIES:Athletics,Flag Football
END:VEVENT
BEGIN:VEVENT
DTSTART;TZID=America/New_York:20241026T120000
DTEND;TZID=America/New_York:20241026T130000
DTSTAMP:20260422T080312
CREATED:20240912T160601Z
LAST-MODIFIED:20240912T160601Z
UID:9201-1729944000-1729947600@genesisinnovationacademy.org
SUMMARY:Girls Flag Football
DESCRIPTION:
URL:https://genesisinnovationacademy.org/event/girls-flag-football/
LOCATION:Dutchtown High School\, 149 Mitchell Rd\, Hampton\, GA\, 30228\, United States
CATEGORIES:Athletics,Flag Football
END:VEVENT
BEGIN:VEVENT
DTSTART;TZID=America/New_York:20241026T110000
DTEND;TZID=America/New_York:20241026T150000
DTSTAMP:20260422T080312
CREATED:20240912T160318Z
LAST-MODIFIED:20240912T160318Z
UID:9197-1729940400-1729954800@genesisinnovationacademy.org
SUMMARY:Genesis Homecoming Games
DESCRIPTION:
URL:https://genesisinnovationacademy.org/event/genesis-homecoming-games/
LOCATION:GA\, United States
CATEGORIES:Athletics
END:VEVENT
BEGIN:VEVENT
DTSTART;TZID=America/New_York:20241026T110000
DTEND;TZID=America/New_York:20241026T123000
DTSTAMP:20260422T080312
CREATED:20240912T160422Z
LAST-MODIFIED:20240912T160422Z
UID:9199-1729940400-1729945800@genesisinnovationacademy.org
SUMMARY:U10 Soccer – Warriors vs Atlanta Heights Blue
DESCRIPTION:
URL:https://genesisinnovationacademy.org/event/u10-soccer-warriors-vs-atlanta-heights-blue/
LOCATION:Cheney Stadium\, 741 Connally St SE\, Atlanta\, GA\, 30315\, United States
CATEGORIES:Athletics,Soccer
END:VEVENT
BEGIN:VEVENT
DTSTART;TZID=America/New_York:20241026T095000
DTEND;TZID=America/New_York:20241026T112000
DTSTAMP:20260422T080312
CREATED:20240912T160224Z
LAST-MODIFIED:20240912T160224Z
UID:9195-1729936200-1729941600@genesisinnovationacademy.org
SUMMARY:U7 Soccer – Warriors vs Atlanta Heights Orange
DESCRIPTION:
URL:https://genesisinnovationacademy.org/event/u7-soccer-warriors-vs-atlanta-heights-orange/
LOCATION:Cheney Stadium\, 741 Connally St SE\, Atlanta\, GA\, 30315\, United States
CATEGORIES:Athletics,Soccer
END:VEVENT
BEGIN:VEVENT
DTSTART;TZID=America/New_York:20241024T180000
DTEND;TZID=America/New_York:20241024T200000
DTSTAMP:20260422T080312
CREATED:20200811T210920Z
LAST-MODIFIED:20260302T140006Z
UID:10746-1729792800-1729800000@genesisinnovationacademy.org
SUMMARY:Board Meeting
DESCRIPTION:Board Meeting Access:  \n\nJoin Teams Meeting
URL:https://genesisinnovationacademy.org/event/august-27-2020-board-meeting/2024-10-24/
LOCATION:Online
CATEGORIES:Board Meetings
END:VEVENT
BEGIN:VEVENT
DTSTART;TZID=America/New_York:20241024T170000
DTEND;TZID=America/New_York:20241024T183000
DTSTAMP:20260422T080312
CREATED:20241011T160759Z
LAST-MODIFIED:20241011T160759Z
UID:9292-1729789200-1729794600@genesisinnovationacademy.org
SUMMARY:Math\,Literacy\, and Schoology Workshop
DESCRIPTION:
URL:https://genesisinnovationacademy.org/event/mathliteracy-and-schoology-workshop/
LOCATION:Cafeteria\, 1049 Custer Ave\, Atlanta\, GA\, 30316\, United States
END:VEVENT
BEGIN:VEVENT
DTSTART;TZID=America/New_York:20241024T083000
DTEND;TZID=America/New_York:20241024T103000
DTSTAMP:20260422T080312
CREATED:20241008T154016Z
LAST-MODIFIED:20241008T154016Z
UID:9282-1729758600-1729765800@genesisinnovationacademy.org
SUMMARY:Director’s Coffee (Tentative)
DESCRIPTION:
URL:https://genesisinnovationacademy.org/event/directors-coffee-tentative/
LOCATION:Cafeteria\, 1049 Custer Ave\, Atlanta\, GA\, 30316\, United States
END:VEVENT
BEGIN:VEVENT
DTSTART;TZID=America/New_York:20241023T170000
DTEND;TZID=America/New_York:20241023T180000
DTSTAMP:20260422T080312
CREATED:20241011T160442Z
LAST-MODIFIED:20241011T160442Z
UID:9290-1729702800-1729706400@genesisinnovationacademy.org
SUMMARY:Parent Night(Hispanic Heritage Celebration)
DESCRIPTION:
URL:https://genesisinnovationacademy.org/event/parent-nighthispanic-heritage-celebration/
LOCATION:GA\, United States
END:VEVENT
BEGIN:VEVENT
DTSTART;TZID=America/New_York:20241021T093000
DTEND;TZID=America/New_York:20241021T110000
DTSTAMP:20260422T080312
CREATED:20240507T162631Z
LAST-MODIFIED:20241021T122115Z
UID:8574-1729503000-1729508400@genesisinnovationacademy.org
SUMMARY:Academic Committee Meeting(Cancelled)
DESCRIPTION:Click here to access the meeting. 
URL:https://genesisinnovationacademy.org/event/academic-committee-meeting-2024-10-14/
CATEGORIES:Academic Excellence Committee,Commitee Meetings
END:VEVENT
BEGIN:VEVENT
DTSTART;TZID=America/New_York:20241019T140000
DTEND;TZID=America/New_York:20241019T160000
DTSTAMP:20260422T080312
CREATED:20240912T155823Z
LAST-MODIFIED:20240912T155823Z
UID:9191-1729346400-1729353600@genesisinnovationacademy.org
SUMMARY:Girls’ Flag Football – Lady Warriors vs BW
DESCRIPTION:
URL:https://genesisinnovationacademy.org/event/girls-flag-football-lady-warriors-vs-bw/
LOCATION:Wilkerson Mill-Farris Park\, 8095 Wilkerson Mill Rd\, Palmetto\, GA\, 30268\, United States
CATEGORIES:Athletics,Flag Football
END:VEVENT
BEGIN:VEVENT
DTSTART;TZID=America/New_York:20241019T113000
DTEND;TZID=America/New_York:20241019T143000
DTSTAMP:20260422T080312
CREATED:20240912T153615Z
LAST-MODIFIED:20240912T153655Z
UID:9189-1729337400-1729348200@genesisinnovationacademy.org
SUMMARY:GIA Boys vs Dekalb Prep Academy
DESCRIPTION:
URL:https://genesisinnovationacademy.org/event/gia-boys-vs-dekalb-prep-academy/
LOCATION:Midway Park\, 3181 Midway\, Decatur\, GA\, 30032\, United States
CATEGORIES:Athletics,Flag Football
END:VEVENT
BEGIN:VEVENT
DTSTART;TZID=America/New_York:20241019T111500
DTEND;TZID=America/New_York:20241019T121500
DTSTAMP:20260422T080312
CREATED:20240912T153355Z
LAST-MODIFIED:20240912T153355Z
UID:9187-1729336500-1729340100@genesisinnovationacademy.org
SUMMARY:Volleyball – Lady Warrior vs Dekalb Prep Academy
DESCRIPTION:
URL:https://genesisinnovationacademy.org/event/volleyball-lady-warrior-vs-dekalb-prep-academy/
LOCATION:Decatur Recreation Center\, 231 Sycamore St\, Decatur\, GA\, 30030\, United States
CATEGORIES:Athletics,Volleyball
END:VEVENT
BEGIN:VEVENT
DTSTART;TZID=America/New_York:20241016T170000
DTEND;TZID=America/New_York:20241016T190000
DTSTAMP:20260422T080312
CREATED:20200811T212158Z
LAST-MODIFIED:20240721T173050Z
UID:5910-1729098000-1729105200@genesisinnovationacademy.org
SUMMARY:Governance Committee
DESCRIPTION:Click here to access the meeting. 
URL:https://genesisinnovationacademy.org/event/governance-committee-meeting/2024-10-16/
LOCATION:Online
CATEGORIES:Commitee Meetings,Governance Committee
END:VEVENT
BEGIN:VEVENT
DTSTART;TZID=UTC:20241015T180000
DTEND;TZID=UTC:20241015T200000
DTSTAMP:20260422T080312
CREATED:20200815T211016Z
LAST-MODIFIED:20240721T173417Z
UID:5846-1729015200-1729022400@genesisinnovationacademy.org
SUMMARY:Finance Committee
DESCRIPTION:Click here to access the meeting 
URL:https://genesisinnovationacademy.org/event/finance-committee/2024-10-15/
LOCATION:Online
CATEGORIES:Finance Commitee
END:VEVENT
BEGIN:VEVENT
DTSTART;TZID=America/New_York:20241009T174500
DTEND;TZID=America/New_York:20241009T191500
DTSTAMP:20260422T080312
CREATED:20240912T153131Z
LAST-MODIFIED:20240912T153131Z
UID:9184-1728495900-1728501300@genesisinnovationacademy.org
SUMMARY:Softball – Lady Warriors vs KIPP Atlanta West Middle School
DESCRIPTION:
URL:https://genesisinnovationacademy.org/event/softball-lady-warriors-vs-kipp-atlanta-west-middle-school/
LOCATION:Phoenix Academy\, 256 Clifton St. SE\, Atlanta\, GA\, 30317\, United States
CATEGORIES:Athletics,Softball
END:VEVENT
BEGIN:VEVENT
DTSTART;TZID=UTC:20241008T180000
DTEND;TZID=UTC:20241008T190000
DTSTAMP:20260422T080312
CREATED:20200811T212910Z
LAST-MODIFIED:20200811T212910Z
UID:7991-1728410400-1728414000@genesisinnovationacademy.org
SUMMARY:Development Committee
DESCRIPTION:Click here for meeting. 
URL:https://genesisinnovationacademy.org/event/development-committee-meeting-2023-10-10/2024-10-08/
LOCATION:GA\, United States
CATEGORIES:Commitee Meetings,Development Meeting
END:VEVENT
BEGIN:VEVENT
DTSTART;VALUE=DATE:20241007
DTEND;VALUE=DATE:20241008
DTSTAMP:20260422T080312
CREATED:20240912T151952Z
LAST-MODIFIED:20240912T151952Z
UID:9182-1728259200-1728345599@genesisinnovationacademy.org
SUMMARY:9 Week Progress Report
DESCRIPTION:
URL:https://genesisinnovationacademy.org/event/9-week-progress-report/
LOCATION:GA\, United States
END:VEVENT
BEGIN:VEVENT
DTSTART;TZID=America/New_York:20241005T134500
DTEND;TZID=America/New_York:20241005T144500
DTSTAMP:20260422T080312
CREATED:20240912T151845Z
LAST-MODIFIED:20240912T151845Z
UID:9180-1728135900-1728139500@genesisinnovationacademy.org
SUMMARY:Volleyball – Lady Warrior vs Decatur Bulldogs-1
DESCRIPTION:
URL:https://genesisinnovationacademy.org/event/volleyball-lady-warrior-vs-decatur-bulldogs-1/
LOCATION:Decatur Recreation Center\, 231 Sycamore St\, Decatur\, GA\, 30030\, United States
CATEGORIES:Athletics,Volleyball
END:VEVENT
BEGIN:VEVENT
DTSTART;TZID=America/New_York:20241005T113000
DTEND;TZID=America/New_York:20241005T143000
DTSTAMP:20260422T080312
CREATED:20240912T151717Z
LAST-MODIFIED:20240912T151717Z
UID:9178-1728127800-1728138600@genesisinnovationacademy.org
SUMMARY:GIA Boys vs Decatur Bulldogs
DESCRIPTION:
URL:https://genesisinnovationacademy.org/event/gia-boys-vs-decatur-bulldogs/
LOCATION:Mt. Zion High School(Main Field)\, 2535 Mt. Zion PKWY\, Jonesboro\, GA\, 30236\, United States
CATEGORIES:Athletics,Flag Football
END:VEVENT
BEGIN:VEVENT
DTSTART;TZID=America/New_York:20241005T110000
DTEND;TZID=America/New_York:20241005T123000
DTSTAMP:20260422T080312
CREATED:20240912T151503Z
LAST-MODIFIED:20240912T151503Z
UID:9174-1728126000-1728131400@genesisinnovationacademy.org
SUMMARY:U10 Soccer – Warriors vs Atlanta Heights Orange
DESCRIPTION:
URL:https://genesisinnovationacademy.org/event/u10-soccer-warriors-vs-atlanta-heights-orange/
LOCATION:Cheney Stadium\, 741 Connally St SE\, Atlanta\, GA\, 30315\, United States
CATEGORIES:Athletics,Soccer
END:VEVENT
BEGIN:VEVENT
DTSTART;TZID=America/New_York:20241005T110000
DTEND;TZID=America/New_York:20241005T120000
DTSTAMP:20260422T080312
CREATED:20240912T151624Z
LAST-MODIFIED:20240912T151624Z
UID:9176-1728126000-1728129600@genesisinnovationacademy.org
SUMMARY:Girls’ Flag Football – Lady Warriors vs Lady Legacy
DESCRIPTION:
URL:https://genesisinnovationacademy.org/event/girls-flag-football-lady-warriors-vs-lady-legacy/
LOCATION:Dutchtown High School\, 149 Mitchell Rd\, Hampton\, GA\, 30228\, United States
CATEGORIES:Athletics,Flag Football
END:VEVENT
BEGIN:VEVENT
DTSTART;TZID=America/New_York:20241005T090000
DTEND;TZID=America/New_York:20241005T103000
DTSTAMP:20260422T080312
CREATED:20240912T151359Z
LAST-MODIFIED:20240912T151359Z
UID:9172-1728118800-1728124200@genesisinnovationacademy.org
SUMMARY:U7 Soccer – Warriors vs Kindezi Gideon
DESCRIPTION:
URL:https://genesisinnovationacademy.org/event/u7-soccer-warriors-vs-kindezi-gideon/
LOCATION:Cheney Stadium\, 741 Connally St SE\, Atlanta\, GA\, 30315\, United States
CATEGORIES:Athletics,Soccer
END:VEVENT
BEGIN:VEVENT
DTSTART;TZID=America/New_York:20241003T180000
DTEND;TZID=America/New_York:20241003T200000
DTSTAMP:20260422T080312
CREATED:20241003T124621Z
LAST-MODIFIED:20241003T124621Z
UID:9263-1727978400-1727985600@genesisinnovationacademy.org
SUMMARY:Emergency Board Meeting
DESCRIPTION:https://teams.microsoft.com/l/meetup-join/19%3ameeting_ZjE2YTkwZjEtNjBmNy00NWYzLTg3M2QtZWY1MjA4ZjAxZTYz%40thread.v2/0?context=%7b%22Tid%22%3a%22789dc677-eec0-4991-b1d1-0b9e002d0a8b%22%2c%22Oid%22%3a%226c095ba6-0469-48aa-b04e-5ee425564c63%22%7d
URL:https://genesisinnovationacademy.org/event/emergency-board-meeting-2/
LOCATION:Online
CATEGORIES:Board Meetings
END:VEVENT
END:VCALENDAR