BEGIN:VCALENDAR
VERSION:2.0
PRODID:-//Genesis Innovation Academy - ECPv6.9.0//NONSGML v1.0//EN
CALSCALE:GREGORIAN
METHOD:PUBLISH
X-WR-CALNAME:Genesis Innovation Academy
X-ORIGINAL-URL:https://genesisinnovationacademy.org
X-WR-CALDESC:Events for Genesis Innovation Academy
REFRESH-INTERVAL;VALUE=DURATION:PT1H
X-Robots-Tag:noindex
X-PUBLISHED-TTL:PT1H
BEGIN:VTIMEZONE
TZID:America/New_York
BEGIN:DAYLIGHT
TZOFFSETFROM:-0500
TZOFFSETTO:-0400
TZNAME:EDT
DTSTART:20240310T070000
END:DAYLIGHT
BEGIN:STANDARD
TZOFFSETFROM:-0400
TZOFFSETTO:-0500
TZNAME:EST
DTSTART:20241103T060000
END:STANDARD
TZID:UTC
BEGIN:STANDARD
TZOFFSETFROM:+0000
TZOFFSETTO:+0000
TZNAME:UTC
DTSTART:20240101T000000
END:STANDARD
END:VTIMEZONE
BEGIN:VEVENT
DTSTART;TZID=America/New_York:20240928T090000
DTEND;TZID=America/New_York:20240928T103000
DTSTAMP:20260422T132923
CREATED:20240912T150127Z
LAST-MODIFIED:20240912T150127Z
UID:9157-1727514000-1727519400@genesisinnovationacademy.org
SUMMARY:U10 Soccer – Warriors vs Kindezi Gideon
DESCRIPTION:
URL:https://genesisinnovationacademy.org/event/u10-soccer-warriors-vs-kindezi-gideon/
LOCATION:Cheney Stadium\, 741 Connally St SE\, Atlanta\, GA\, 30315\, United States
CATEGORIES:Athletics,Soccer
END:VEVENT
BEGIN:VEVENT
DTSTART;TZID=America/New_York:20240926T180000
DTEND;TZID=America/New_York:20240926T200000
DTSTAMP:20260422T132923
CREATED:20200811T210920Z
LAST-MODIFIED:20260302T140005Z
UID:10745-1727373600-1727380800@genesisinnovationacademy.org
SUMMARY:Board Meeting
DESCRIPTION:Board Meeting Access:  \n\nJoin Teams Meeting
URL:https://genesisinnovationacademy.org/event/august-27-2020-board-meeting/2024-09-26/
LOCATION:Online
CATEGORIES:Board Meetings
END:VEVENT
BEGIN:VEVENT
DTSTART;TZID=America/New_York:20240925T174500
DTEND;TZID=America/New_York:20240925T191500
DTSTAMP:20260422T132923
CREATED:20240912T145932Z
LAST-MODIFIED:20240912T145932Z
UID:9154-1727286300-1727291700@genesisinnovationacademy.org
SUMMARY:Softball – Lady Warriors vs Herman J Russell West End Academy
DESCRIPTION:
URL:https://genesisinnovationacademy.org/event/softball-lady-warriors-vs-herman-j-russell-west-end-academy/
LOCATION:HJ Russell\, 765 Peeples St SW\, Atlanta\, GA\, 30310\, United States
CATEGORIES:Athletics,Softball
END:VEVENT
BEGIN:VEVENT
DTSTART;TZID=America/New_York:20240921T123000
DTEND;TZID=America/New_York:20240921T133000
DTSTAMP:20260422T132923
CREATED:20240912T145510Z
LAST-MODIFIED:20240912T145510Z
UID:9152-1726921800-1726925400@genesisinnovationacademy.org
SUMMARY:Volleyball – Lady Warrior vs Jonesboro-Red Hawks 2
DESCRIPTION:
URL:https://genesisinnovationacademy.org/event/volleyball-lady-warrior-vs-jonesboro-red-hawks-2/
LOCATION:Dutchtown High School\, 149 Mitchell Rd\, Hampton\, GA\, 30228\, United States
CATEGORIES:Athletics,Volleyball
END:VEVENT
BEGIN:VEVENT
DTSTART;TZID=America/New_York:20240921T100000
DTEND;TZID=America/New_York:20240921T113000
DTSTAMP:20260422T132923
CREATED:20240912T145307Z
LAST-MODIFIED:20240912T145307Z
UID:9148-1726912800-1726918200@genesisinnovationacademy.org
SUMMARY:U10 Soccer – Warriors vs Kindezi West
DESCRIPTION:
URL:https://genesisinnovationacademy.org/event/u10-soccer-warriors-vs-kindezi-west/
LOCATION:Cheney Stadium\, 741 Connally St SE\, Atlanta\, GA\, 30315\, United States
CATEGORIES:Athletics,Soccer
END:VEVENT
BEGIN:VEVENT
DTSTART;TZID=America/New_York:20240921T100000
DTEND;TZID=America/New_York:20240921T110000
DTSTAMP:20260422T132923
CREATED:20240912T145421Z
LAST-MODIFIED:20240912T145421Z
UID:9150-1726912800-1726916400@genesisinnovationacademy.org
SUMMARY:Girls’ Flag Football – Lady Warriors vs PAL
DESCRIPTION:
URL:https://genesisinnovationacademy.org/event/girls-flag-football-lady-warriors-vs-pal/
LOCATION:Wilkerson Mill-Farris Park\, 8095 Wilkerson Mill Rd\, Palmetto\, GA\, 30268\, United States
CATEGORIES:Athletics,Flag Football
END:VEVENT
BEGIN:VEVENT
DTSTART;TZID=America/New_York:20240921T095000
DTEND;TZID=America/New_York:20240921T112000
DTSTAMP:20260422T132924
CREATED:20240912T145033Z
LAST-MODIFIED:20240912T145033Z
UID:9146-1726912200-1726917600@genesisinnovationacademy.org
SUMMARY:U7 Soccer – Warriors vs Atlanta Heights Blue
DESCRIPTION:
URL:https://genesisinnovationacademy.org/event/u7-soccer-warriors-vs-atlanta-heights-blue/
LOCATION:Cheney Stadium\, 741 Connally St SE\, Atlanta\, GA\, 30315\, United States
CATEGORIES:Athletics,Soccer
END:VEVENT
BEGIN:VEVENT
DTSTART;TZID=America/New_York:20240919T170000
DTEND;TZID=America/New_York:20240919T190000
DTSTAMP:20260422T132924
CREATED:20240903T190601Z
LAST-MODIFIED:20240903T190601Z
UID:9091-1726765200-1726772400@genesisinnovationacademy.org
SUMMARY:Title I Meeting
DESCRIPTION:
URL:https://genesisinnovationacademy.org/event/title-i-meeting/
LOCATION:Cafeteria\, 1049 Custer Ave\, Atlanta\, GA\, 30316\, United States
END:VEVENT
BEGIN:VEVENT
DTSTART;TZID=America/New_York:20240918T174500
DTEND;TZID=America/New_York:20240918T191500
DTSTAMP:20260422T132924
CREATED:20240912T140909Z
LAST-MODIFIED:20240912T140909Z
UID:9143-1726681500-1726686900@genesisinnovationacademy.org
SUMMARY:Softball – Lady Warriors vs Coretta Scott King MS
DESCRIPTION:
URL:https://genesisinnovationacademy.org/event/softball-lady-warriors-vs-coretta-scott-king-ms/
LOCATION:Coretta Scott King Young Women’s Leadership Academy 6-12\, 1190 Northwest Dr NW\, Atlanta\, GA\, 30318\, United States
CATEGORIES:Athletics,Softball
END:VEVENT
BEGIN:VEVENT
DTSTART;TZID=America/New_York:20240918T170000
DTEND;TZID=America/New_York:20240918T190000
DTSTAMP:20260422T132924
CREATED:20200811T212158Z
LAST-MODIFIED:20240721T173049Z
UID:5909-1726678800-1726686000@genesisinnovationacademy.org
SUMMARY:Governance Committee
DESCRIPTION:Click here to access the meeting. 
URL:https://genesisinnovationacademy.org/event/governance-committee-meeting/2024-09-18/
LOCATION:Online
CATEGORIES:Commitee Meetings,Governance Committee
END:VEVENT
BEGIN:VEVENT
DTSTART;TZID=America/New_York:20240918T090000
DTEND;TZID=America/New_York:20240918T140000
DTSTAMP:20260422T132924
CREATED:20240912T140522Z
LAST-MODIFIED:20240912T140522Z
UID:9141-1726650000-1726668000@genesisinnovationacademy.org
SUMMARY:PowHER Day
DESCRIPTION:
URL:https://genesisinnovationacademy.org/event/powher-day/
LOCATION:GA\, United States
END:VEVENT
BEGIN:VEVENT
DTSTART;TZID=UTC:20240917T180000
DTEND;TZID=UTC:20240917T200000
DTSTAMP:20260422T132924
CREATED:20200815T211016Z
LAST-MODIFIED:20240721T173411Z
UID:5763-1726596000-1726603200@genesisinnovationacademy.org
SUMMARY:Finance Committee
DESCRIPTION:Click here to access the meeting 
URL:https://genesisinnovationacademy.org/event/finance-committee/2024-09-17/
LOCATION:Online
CATEGORIES:Finance Commitee
END:VEVENT
BEGIN:VEVENT
DTSTART;TZID=America/New_York:20240914T130000
DTEND;TZID=America/New_York:20240914T153000
DTSTAMP:20260422T132924
CREATED:20240912T140155Z
LAST-MODIFIED:20240912T140155Z
UID:9135-1726318800-1726327800@genesisinnovationacademy.org
SUMMARY:GIA Boys vs SLAM Academy Flag Football Game
DESCRIPTION:
URL:https://genesisinnovationacademy.org/event/gia-boys-vs-slam-academy-flag-football-game/
LOCATION:Mt. Zion High School(Main Field)\, 2535 Mt. Zion PKWY\, Jonesboro\, GA\, 30236\, United States
CATEGORIES:Flag Football
END:VEVENT
BEGIN:VEVENT
DTSTART;TZID=America/New_York:20240914T130000
DTEND;TZID=America/New_York:20240914T140000
DTSTAMP:20260422T132924
CREATED:20240912T140419Z
LAST-MODIFIED:20240912T140419Z
UID:9138-1726318800-1726322400@genesisinnovationacademy.org
SUMMARY:Girls’ Flag Football – Lady Warriors vs Lady Raiders
DESCRIPTION:
URL:https://genesisinnovationacademy.org/event/girls-flag-football-lady-warriors-vs-lady-raiders/
LOCATION:Wilkerson Mill-Farris Park\, 8095 Wilkerson Mill Rd\, Palmetto\, GA\, 30268\, United States
CATEGORIES:Athletics,Flag Football
END:VEVENT
BEGIN:VEVENT
DTSTART;TZID=America/New_York:20240914T100000
DTEND;TZID=America/New_York:20240914T113000
DTSTAMP:20260422T132924
CREATED:20240912T135537Z
LAST-MODIFIED:20240912T135537Z
UID:9131-1726308000-1726313400@genesisinnovationacademy.org
SUMMARY:U10 Soccer – Warriors vs Kindezi OFW
DESCRIPTION:
URL:https://genesisinnovationacademy.org/event/u10-soccer-warriors-vs-kindezi-ofw/
LOCATION:Cheney Stadium\, 741 Connally St SE\, Atlanta\, GA\, 30315\, United States
CATEGORIES:Athletics,Soccer
END:VEVENT
BEGIN:VEVENT
DTSTART;TZID=America/New_York:20240914T100000
DTEND;TZID=America/New_York:20240914T110000
DTSTAMP:20260422T132924
CREATED:20240912T135833Z
LAST-MODIFIED:20240912T135833Z
UID:9133-1726308000-1726311600@genesisinnovationacademy.org
SUMMARY:Volleyball – Lady Warrior vs UAFA
DESCRIPTION:
URL:https://genesisinnovationacademy.org/event/volleyball-lady-warrior-vs-uafa/
LOCATION:Decatur Recreation Center\, 231 Sycamore St\, Decatur\, GA\, 30030\, United States
CATEGORIES:Volleyball
END:VEVENT
BEGIN:VEVENT
DTSTART;TZID=America/New_York:20240914T095000
DTEND;TZID=America/New_York:20240914T232000
DTSTAMP:20260422T132924
CREATED:20240912T135407Z
LAST-MODIFIED:20240912T135407Z
UID:9128-1726307400-1726356000@genesisinnovationacademy.org
SUMMARY:U7 Soccer – Warriors vs Kindezi West White
DESCRIPTION:
URL:https://genesisinnovationacademy.org/event/u7-soccer-warriors-vs-kindezi-west-white/
LOCATION:Cheney Stadium\, 741 Connally St SE\, Atlanta\, GA\, 30315\, United States
CATEGORIES:Athletics,Soccer
END:VEVENT
BEGIN:VEVENT
DTSTART;TZID=America/New_York:20240914T080000
DTEND;TZID=America/New_York:20240914T120000
DTSTAMP:20260422T132924
CREATED:20240903T190450Z
LAST-MODIFIED:20240903T190450Z
UID:9089-1726300800-1726315200@genesisinnovationacademy.org
SUMMARY:FBI (Fathers Being Involved)
DESCRIPTION:
URL:https://genesisinnovationacademy.org/event/fbi-fathers-being-involved/
LOCATION:Genesis Innovation Academy\, 1049 Custer Ave SE\, Atlanta\, Georgia\, 30316
END:VEVENT
BEGIN:VEVENT
DTSTART;TZID=UTC:20240910T180000
DTEND;TZID=UTC:20240910T190000
DTSTAMP:20260422T132924
CREATED:20200811T212910Z
LAST-MODIFIED:20200811T212910Z
UID:7990-1725991200-1725994800@genesisinnovationacademy.org
SUMMARY:Development Committee
DESCRIPTION:Click here for meeting. 
URL:https://genesisinnovationacademy.org/event/development-committee-meeting-2023-10-10/2024-09-10/
LOCATION:GA\, United States
CATEGORIES:Commitee Meetings,Development Meeting
END:VEVENT
BEGIN:VEVENT
DTSTART;TZID=America/New_York:20240909T093000
DTEND;TZID=America/New_York:20240909T110000
DTSTAMP:20260422T132924
CREATED:20240507T162631Z
LAST-MODIFIED:20240626T135043Z
UID:8573-1725874200-1725879600@genesisinnovationacademy.org
SUMMARY:Academic Committee Meeting
DESCRIPTION:Click here to access the meeting. 
URL:https://genesisinnovationacademy.org/event/academic-committee-meeting/2024-09-09/
LOCATION:GA\, United States
CATEGORIES:Academic Excellence Committee,Commitee Meetings
END:VEVENT
BEGIN:VEVENT
DTSTART;TZID=America/New_York:20240907T130000
DTEND;TZID=America/New_York:20240907T153000
DTSTAMP:20260422T132924
CREATED:20240826T151833Z
LAST-MODIFIED:20240906T132433Z
UID:9073-1725714000-1725723000@genesisinnovationacademy.org
SUMMARY:GIA Boys Flag Football Game vs Date Academy
DESCRIPTION:
URL:https://genesisinnovationacademy.org/event/gia-vs-resurgence-flag-football-game/
LOCATION:Dutchtown High School\, 149 Mitchell Rd\, Hampton\, GA\, 30228\, United States
CATEGORIES:Athletics
END:VEVENT
BEGIN:VEVENT
DTSTART;TZID=America/New_York:20240907T123000
DTEND;TZID=America/New_York:20240907T133000
DTSTAMP:20260422T132924
CREATED:20240826T150339Z
LAST-MODIFIED:20240826T151958Z
UID:9070-1725712200-1725715800@genesisinnovationacademy.org
SUMMARY:Volleyball- Lady Warriors vs Dubois Integrity Academy
DESCRIPTION:
URL:https://genesisinnovationacademy.org/event/volleyball-lady-warriors-vs-dubois-integrity-academy/
LOCATION:Decatur Recreation Center\, 231 Sycamore St\, Decatur\, GA\, 30030\, United States
CATEGORIES:Athletics
END:VEVENT
BEGIN:VEVENT
DTSTART;TZID=America/New_York:20240905T180000
DTEND;TZID=America/New_York:20240905T200000
DTSTAMP:20260422T132924
CREATED:20240826T143306Z
LAST-MODIFIED:20240826T152237Z
UID:9068-1725559200-1725566400@genesisinnovationacademy.org
SUMMARY:6th-8th Curriculum Night(Virtual)
DESCRIPTION:
URL:https://genesisinnovationacademy.org/event/6th-8th-curriculum-nightvirtual/
LOCATION:Online
END:VEVENT
BEGIN:VEVENT
DTSTART;TZID=America/New_York:20240905T090000
DTEND;TZID=America/New_York:20240905T110000
DTSTAMP:20260422T132924
CREATED:20240826T143059Z
LAST-MODIFIED:20240826T143059Z
UID:9066-1725526800-1725534000@genesisinnovationacademy.org
SUMMARY:Scholar of the Month Recognition
DESCRIPTION:
URL:https://genesisinnovationacademy.org/event/scholar-of-the-month-recognition/
LOCATION:Cafeteria\, 1049 Custer Ave\, Atlanta\, GA\, 30316\, United States
END:VEVENT
BEGIN:VEVENT
DTSTART;TZID=America/New_York:20240904T180000
DTEND;TZID=America/New_York:20240904T200000
DTSTAMP:20260422T132924
CREATED:20240826T142957Z
LAST-MODIFIED:20240826T152119Z
UID:9064-1725472800-1725480000@genesisinnovationacademy.org
SUMMARY:3rd-5th Curriculum Night(Virtual)
DESCRIPTION:
URL:https://genesisinnovationacademy.org/event/3rd-5th-curriculum-nightvirtual/
LOCATION:Online
END:VEVENT
BEGIN:VEVENT
DTSTART;VALUE=DATE:20240904
DTEND;VALUE=DATE:20240905
DTSTAMP:20260422T132925
CREATED:20240826T142853Z
LAST-MODIFIED:20240826T142853Z
UID:9062-1725408000-1725494399@genesisinnovationacademy.org
SUMMARY:4.5 Week Progress Report
DESCRIPTION:
URL:https://genesisinnovationacademy.org/event/4-5-week-progress-report/
LOCATION:GA\, United States
END:VEVENT
BEGIN:VEVENT
DTSTART;TZID=America/New_York:20240903T180000
DTEND;TZID=America/New_York:20240903T200000
DTSTAMP:20260422T132925
CREATED:20240826T142813Z
LAST-MODIFIED:20240826T142813Z
UID:9060-1725386400-1725393600@genesisinnovationacademy.org
SUMMARY:K-2 Curriculum Night(Virtual)
DESCRIPTION:
URL:https://genesisinnovationacademy.org/event/k-2-curriculum-nightvirtual/
LOCATION:Online
END:VEVENT
BEGIN:VEVENT
DTSTART;TZID=America/New_York:20240829T170000
DTEND;TZID=America/New_York:20240829T180000
DTSTAMP:20260422T132925
CREATED:20240826T142550Z
LAST-MODIFIED:20240826T142550Z
UID:9057-1724950800-1724954400@genesisinnovationacademy.org
SUMMARY:Schoology Parent Workshop
DESCRIPTION:
URL:https://genesisinnovationacademy.org/event/schoology-parent-workshop/
LOCATION:Cafeteria\, 1049 Custer Ave\, Atlanta\, GA\, 30316\, United States
END:VEVENT
BEGIN:VEVENT
DTSTART;TZID=America/New_York:20240828T163000
DTEND;TZID=America/New_York:20240828T183000
DTSTAMP:20260422T132925
CREATED:20240826T142351Z
LAST-MODIFIED:20240826T142351Z
UID:9054-1724862600-1724869800@genesisinnovationacademy.org
SUMMARY:PowHER Kickoff – Zoo Atlanta
DESCRIPTION:
URL:https://genesisinnovationacademy.org/event/powher-kickoff-zoo-atlanta/
LOCATION:Zoo Atlanta\, 800 Cherokee Ave\, Atlanta\, GA\, 30315\, United States
END:VEVENT
BEGIN:VEVENT
DTSTART;TZID=America/New_York:20240822T180000
DTEND;TZID=America/New_York:20240822T200000
DTSTAMP:20260422T132925
CREATED:20200811T210920Z
LAST-MODIFIED:20260302T140003Z
UID:10744-1724349600-1724356800@genesisinnovationacademy.org
SUMMARY:Board Meeting
DESCRIPTION:Board Meeting Access:  \n\nJoin Teams Meeting
URL:https://genesisinnovationacademy.org/event/august-27-2020-board-meeting/2024-08-22/
LOCATION:Online
CATEGORIES:Board Meetings
END:VEVENT
END:VCALENDAR