BEGIN:VCALENDAR
VERSION:2.0
PRODID:-//Genesis Innovation Academy - ECPv6.9.0//NONSGML v1.0//EN
CALSCALE:GREGORIAN
METHOD:PUBLISH
X-WR-CALNAME:Genesis Innovation Academy
X-ORIGINAL-URL:https://genesisinnovationacademy.org
X-WR-CALDESC:Events for Genesis Innovation Academy
REFRESH-INTERVAL;VALUE=DURATION:PT1H
X-Robots-Tag:noindex
X-PUBLISHED-TTL:PT1H
BEGIN:VTIMEZONE
TZID:America/New_York
BEGIN:DAYLIGHT
TZOFFSETFROM:-0500
TZOFFSETTO:-0400
TZNAME:EDT
DTSTART:20260308T070000
END:DAYLIGHT
BEGIN:STANDARD
TZOFFSETFROM:-0400
TZOFFSETTO:-0500
TZNAME:EST
DTSTART:20261101T060000
END:STANDARD
BEGIN:DAYLIGHT
TZOFFSETFROM:-0500
TZOFFSETTO:-0400
TZNAME:EDT
DTSTART:20270314T070000
END:DAYLIGHT
BEGIN:STANDARD
TZOFFSETFROM:-0400
TZOFFSETTO:-0500
TZNAME:EST
DTSTART:20271107T060000
END:STANDARD
END:VTIMEZONE
BEGIN:VEVENT
DTSTART;TZID=America/New_York:20260713T093000
DTEND;TZID=America/New_York:20260713T110000
DTSTAMP:20260421T160126
CREATED:20250513T125816Z
LAST-MODIFIED:20260413T140243Z
UID:10274-1783935000-1783940400@genesisinnovationacademy.org
SUMMARY:Academic Committee Meeting
DESCRIPTION:Microsoft Teams meeting \nJoin: https://teams.microsoft.com/meet/23844787773159?p=0bpnAWi5BE69ZERcdn \nMeeting ID: 238 447 877 731 59 \nPasscode: Zn7ec3Go
URL:https://genesisinnovationacademy.org/event/academic-committee-meeting-2-2025-09-08/2026-07-13/
CATEGORIES:Academic Excellence Committee,Commitee Meetings
END:VEVENT
BEGIN:VEVENT
DTSTART;TZID=America/New_York:20260714T180000
DTEND;TZID=America/New_York:20260714T200000
DTSTAMP:20260421T160126
CREATED:20250513T125206Z
LAST-MODIFIED:20250925T162848Z
UID:10224-1784052000-1784059200@genesisinnovationacademy.org
SUMMARY:Development Committee Meeting
DESCRIPTION:Click here to attend meeting
URL:https://genesisinnovationacademy.org/event/development-committee-meeting-2-2025-06-10/2026-07-14/
CATEGORIES:Commitee Meetings,Development Meeting
END:VEVENT
BEGIN:VEVENT
DTSTART;TZID=America/New_York:20260715T170000
DTEND;TZID=America/New_York:20260715T190000
DTSTAMP:20260421T160126
CREATED:20250513T124540Z
LAST-MODIFIED:20260413T140338Z
UID:10199-1784134800-1784142000@genesisinnovationacademy.org
SUMMARY:Governance Committee Meeting
DESCRIPTION:Microsoft Teams meeting \nJoin: https://teams.microsoft.com/meet/24743675624271?p=7t3OMBiaow7Zxl5hYM \nMeeting ID: 247 436 756 242 71 \nPasscode: KA7fk7Tb
URL:https://genesisinnovationacademy.org/event/governance-committee-meeting-3/2026-07-15/
CATEGORIES:Commitee Meetings,Governance Committee
END:VEVENT
BEGIN:VEVENT
DTSTART;TZID=America/New_York:20260721T180000
DTEND;TZID=America/New_York:20260721T200000
DTSTAMP:20260421T160126
CREATED:20250513T124148Z
LAST-MODIFIED:20250925T162604Z
UID:10177-1784656800-1784664000@genesisinnovationacademy.org
SUMMARY:Finance Committee Meeting
DESCRIPTION:Click here to attend meeting
URL:https://genesisinnovationacademy.org/event/finance-committee-meeting-3/2026-07-21/
CATEGORIES:Commitee Meetings,Finance Commitee
END:VEVENT
BEGIN:VEVENT
DTSTART;TZID=America/New_York:20260810T093000
DTEND;TZID=America/New_York:20260810T110000
DTSTAMP:20260421T160126
CREATED:20250513T125816Z
LAST-MODIFIED:20260413T140243Z
UID:10275-1786354200-1786359600@genesisinnovationacademy.org
SUMMARY:Academic Committee Meeting
DESCRIPTION:Microsoft Teams meeting \nJoin: https://teams.microsoft.com/meet/23844787773159?p=0bpnAWi5BE69ZERcdn \nMeeting ID: 238 447 877 731 59 \nPasscode: Zn7ec3Go
URL:https://genesisinnovationacademy.org/event/academic-committee-meeting-2-2025-09-08/2026-08-10/
CATEGORIES:Academic Excellence Committee,Commitee Meetings
END:VEVENT
BEGIN:VEVENT
DTSTART;TZID=America/New_York:20260811T180000
DTEND;TZID=America/New_York:20260811T200000
DTSTAMP:20260421T160126
CREATED:20250513T125206Z
LAST-MODIFIED:20250925T162849Z
UID:10225-1786471200-1786478400@genesisinnovationacademy.org
SUMMARY:Development Committee Meeting
DESCRIPTION:Click here to attend meeting
URL:https://genesisinnovationacademy.org/event/development-committee-meeting-2-2025-06-10/2026-08-11/
CATEGORIES:Commitee Meetings,Development Meeting
END:VEVENT
BEGIN:VEVENT
DTSTART;TZID=America/New_York:20260818T180000
DTEND;TZID=America/New_York:20260818T200000
DTSTAMP:20260421T160126
CREATED:20250513T124148Z
LAST-MODIFIED:20250925T162604Z
UID:10178-1787076000-1787083200@genesisinnovationacademy.org
SUMMARY:Finance Committee Meeting
DESCRIPTION:Click here to attend meeting
URL:https://genesisinnovationacademy.org/event/finance-committee-meeting-3/2026-08-18/
CATEGORIES:Commitee Meetings,Finance Commitee
END:VEVENT
BEGIN:VEVENT
DTSTART;TZID=America/New_York:20260819T170000
DTEND;TZID=America/New_York:20260819T190000
DTSTAMP:20260421T160126
CREATED:20250513T124540Z
LAST-MODIFIED:20260413T140338Z
UID:10200-1787158800-1787166000@genesisinnovationacademy.org
SUMMARY:Governance Committee Meeting
DESCRIPTION:Microsoft Teams meeting \nJoin: https://teams.microsoft.com/meet/24743675624271?p=7t3OMBiaow7Zxl5hYM \nMeeting ID: 247 436 756 242 71 \nPasscode: KA7fk7Tb
URL:https://genesisinnovationacademy.org/event/governance-committee-meeting-3/2026-08-19/
CATEGORIES:Commitee Meetings,Governance Committee
END:VEVENT
BEGIN:VEVENT
DTSTART;TZID=America/New_York:20260908T180000
DTEND;TZID=America/New_York:20260908T200000
DTSTAMP:20260421T160126
CREATED:20250513T125206Z
LAST-MODIFIED:20250925T162849Z
UID:10226-1788890400-1788897600@genesisinnovationacademy.org
SUMMARY:Development Committee Meeting
DESCRIPTION:Click here to attend meeting
URL:https://genesisinnovationacademy.org/event/development-committee-meeting-2-2025-06-10/2026-09-08/
CATEGORIES:Commitee Meetings,Development Meeting
END:VEVENT
BEGIN:VEVENT
DTSTART;TZID=America/New_York:20260914T093000
DTEND;TZID=America/New_York:20260914T110000
DTSTAMP:20260421T160126
CREATED:20250513T125816Z
LAST-MODIFIED:20260413T140243Z
UID:10276-1789378200-1789383600@genesisinnovationacademy.org
SUMMARY:Academic Committee Meeting
DESCRIPTION:Microsoft Teams meeting \nJoin: https://teams.microsoft.com/meet/23844787773159?p=0bpnAWi5BE69ZERcdn \nMeeting ID: 238 447 877 731 59 \nPasscode: Zn7ec3Go
URL:https://genesisinnovationacademy.org/event/academic-committee-meeting-2-2025-09-08/2026-09-14/
CATEGORIES:Academic Excellence Committee,Commitee Meetings
END:VEVENT
BEGIN:VEVENT
DTSTART;TZID=America/New_York:20260915T180000
DTEND;TZID=America/New_York:20260915T200000
DTSTAMP:20260421T160126
CREATED:20250513T124148Z
LAST-MODIFIED:20250925T162604Z
UID:10179-1789495200-1789502400@genesisinnovationacademy.org
SUMMARY:Finance Committee Meeting
DESCRIPTION:Click here to attend meeting
URL:https://genesisinnovationacademy.org/event/finance-committee-meeting-3/2026-09-15/
CATEGORIES:Commitee Meetings,Finance Commitee
END:VEVENT
BEGIN:VEVENT
DTSTART;TZID=America/New_York:20260916T170000
DTEND;TZID=America/New_York:20260916T190000
DTSTAMP:20260421T160126
CREATED:20250513T124540Z
LAST-MODIFIED:20260413T140338Z
UID:10201-1789578000-1789585200@genesisinnovationacademy.org
SUMMARY:Governance Committee Meeting
DESCRIPTION:Microsoft Teams meeting \nJoin: https://teams.microsoft.com/meet/24743675624271?p=7t3OMBiaow7Zxl5hYM \nMeeting ID: 247 436 756 242 71 \nPasscode: KA7fk7Tb
URL:https://genesisinnovationacademy.org/event/governance-committee-meeting-3/2026-09-16/
CATEGORIES:Commitee Meetings,Governance Committee
END:VEVENT
BEGIN:VEVENT
DTSTART;TZID=America/New_York:20261012T093000
DTEND;TZID=America/New_York:20261012T110000
DTSTAMP:20260421T160126
CREATED:20250513T125816Z
LAST-MODIFIED:20260413T140244Z
UID:10277-1791797400-1791802800@genesisinnovationacademy.org
SUMMARY:Academic Committee Meeting
DESCRIPTION:Microsoft Teams meeting \nJoin: https://teams.microsoft.com/meet/23844787773159?p=0bpnAWi5BE69ZERcdn \nMeeting ID: 238 447 877 731 59 \nPasscode: Zn7ec3Go
URL:https://genesisinnovationacademy.org/event/academic-committee-meeting-2-2025-09-08/2026-10-12/
CATEGORIES:Academic Excellence Committee,Commitee Meetings
END:VEVENT
BEGIN:VEVENT
DTSTART;TZID=America/New_York:20261013T180000
DTEND;TZID=America/New_York:20261013T200000
DTSTAMP:20260421T160126
CREATED:20250513T125206Z
LAST-MODIFIED:20250925T162850Z
UID:10227-1791914400-1791921600@genesisinnovationacademy.org
SUMMARY:Development Committee Meeting
DESCRIPTION:Click here to attend meeting
URL:https://genesisinnovationacademy.org/event/development-committee-meeting-2-2025-06-10/2026-10-13/
CATEGORIES:Commitee Meetings,Development Meeting
END:VEVENT
BEGIN:VEVENT
DTSTART;TZID=America/New_York:20261020T180000
DTEND;TZID=America/New_York:20261020T200000
DTSTAMP:20260421T160126
CREATED:20250513T124148Z
LAST-MODIFIED:20250925T162604Z
UID:10180-1792519200-1792526400@genesisinnovationacademy.org
SUMMARY:Finance Committee Meeting
DESCRIPTION:Click here to attend meeting
URL:https://genesisinnovationacademy.org/event/finance-committee-meeting-3/2026-10-20/
CATEGORIES:Commitee Meetings,Finance Commitee
END:VEVENT
BEGIN:VEVENT
DTSTART;TZID=America/New_York:20261021T170000
DTEND;TZID=America/New_York:20261021T190000
DTSTAMP:20260421T160126
CREATED:20250513T124540Z
LAST-MODIFIED:20260413T140350Z
UID:10202-1792602000-1792609200@genesisinnovationacademy.org
SUMMARY:Governance Committee Meeting
DESCRIPTION:Microsoft Teams meeting \nJoin: https://teams.microsoft.com/meet/24743675624271?p=7t3OMBiaow7Zxl5hYM \nMeeting ID: 247 436 756 242 71 \nPasscode: KA7fk7Tb
URL:https://genesisinnovationacademy.org/event/governance-committee-meeting-3/2026-10-21/
CATEGORIES:Commitee Meetings,Governance Committee
END:VEVENT
BEGIN:VEVENT
DTSTART;TZID=America/New_York:20261109T093000
DTEND;TZID=America/New_York:20261109T110000
DTSTAMP:20260421T160126
CREATED:20250513T125816Z
LAST-MODIFIED:20260413T140244Z
UID:10278-1794216600-1794222000@genesisinnovationacademy.org
SUMMARY:Academic Committee Meeting
DESCRIPTION:Microsoft Teams meeting \nJoin: https://teams.microsoft.com/meet/23844787773159?p=0bpnAWi5BE69ZERcdn \nMeeting ID: 238 447 877 731 59 \nPasscode: Zn7ec3Go
URL:https://genesisinnovationacademy.org/event/academic-committee-meeting-2-2025-09-08/2026-11-09/
CATEGORIES:Academic Excellence Committee,Commitee Meetings
END:VEVENT
BEGIN:VEVENT
DTSTART;TZID=America/New_York:20261110T180000
DTEND;TZID=America/New_York:20261110T200000
DTSTAMP:20260421T160126
CREATED:20250513T125206Z
LAST-MODIFIED:20250925T162850Z
UID:10228-1794333600-1794340800@genesisinnovationacademy.org
SUMMARY:Development Committee Meeting
DESCRIPTION:Click here to attend meeting
URL:https://genesisinnovationacademy.org/event/development-committee-meeting-2-2025-06-10/2026-11-10/
CATEGORIES:Commitee Meetings,Development Meeting
END:VEVENT
BEGIN:VEVENT
DTSTART;TZID=America/New_York:20261111T190000
DTEND;TZID=America/New_York:20261111T210000
DTSTAMP:20260421T160126
CREATED:20250513T124148Z
LAST-MODIFIED:20250612T142905Z
UID:10181-1794423600-1794430800@genesisinnovationacademy.org
SUMMARY:Finance Committee Meeting
DESCRIPTION:
URL:https://genesisinnovationacademy.org/event/finance-committee-meeting-3-2026-11-17/
CATEGORIES:Commitee Meetings,Finance Commitee
END:VEVENT
BEGIN:VEVENT
DTSTART;TZID=America/New_York:20261118T170000
DTEND;TZID=America/New_York:20261118T190000
DTSTAMP:20260421T160126
CREATED:20250513T124540Z
LAST-MODIFIED:20260413T140351Z
UID:10203-1795021200-1795028400@genesisinnovationacademy.org
SUMMARY:Governance Committee Meeting
DESCRIPTION:Microsoft Teams meeting \nJoin: https://teams.microsoft.com/meet/24743675624271?p=7t3OMBiaow7Zxl5hYM \nMeeting ID: 247 436 756 242 71 \nPasscode: KA7fk7Tb
URL:https://genesisinnovationacademy.org/event/governance-committee-meeting-3/2026-11-18/
CATEGORIES:Commitee Meetings,Governance Committee
END:VEVENT
BEGIN:VEVENT
DTSTART;TZID=America/New_York:20261208T180000
DTEND;TZID=America/New_York:20261208T200000
DTSTAMP:20260421T160126
CREATED:20250513T125206Z
LAST-MODIFIED:20250925T162851Z
UID:10229-1796752800-1796760000@genesisinnovationacademy.org
SUMMARY:Development Committee Meeting
DESCRIPTION:Click here to attend meeting
URL:https://genesisinnovationacademy.org/event/development-committee-meeting-2-2025-06-10/2026-12-08/
CATEGORIES:Commitee Meetings,Development Meeting
END:VEVENT
BEGIN:VEVENT
DTSTART;TZID=America/New_York:20261214T093000
DTEND;TZID=America/New_York:20261214T110000
DTSTAMP:20260421T160126
CREATED:20250513T125816Z
LAST-MODIFIED:20260413T140244Z
UID:10279-1797240600-1797246000@genesisinnovationacademy.org
SUMMARY:Academic Committee Meeting
DESCRIPTION:Microsoft Teams meeting \nJoin: https://teams.microsoft.com/meet/23844787773159?p=0bpnAWi5BE69ZERcdn \nMeeting ID: 238 447 877 731 59 \nPasscode: Zn7ec3Go
URL:https://genesisinnovationacademy.org/event/academic-committee-meeting-2-2025-09-08/2026-12-14/
CATEGORIES:Academic Excellence Committee,Commitee Meetings
END:VEVENT
BEGIN:VEVENT
DTSTART;TZID=America/New_York:20261215T180000
DTEND;TZID=America/New_York:20261215T200000
DTSTAMP:20260421T160126
CREATED:20250513T124148Z
LAST-MODIFIED:20250925T162605Z
UID:10182-1797357600-1797364800@genesisinnovationacademy.org
SUMMARY:Finance Committee Meeting
DESCRIPTION:Click here to attend meeting
URL:https://genesisinnovationacademy.org/event/finance-committee-meeting-3/2026-12-15/
CATEGORIES:Commitee Meetings,Finance Commitee
END:VEVENT
BEGIN:VEVENT
DTSTART;TZID=America/New_York:20261216T170000
DTEND;TZID=America/New_York:20261216T190000
DTSTAMP:20260421T160126
CREATED:20250513T124540Z
LAST-MODIFIED:20260413T140352Z
UID:10204-1797440400-1797447600@genesisinnovationacademy.org
SUMMARY:Governance Committee Meeting
DESCRIPTION:Microsoft Teams meeting \nJoin: https://teams.microsoft.com/meet/24743675624271?p=7t3OMBiaow7Zxl5hYM \nMeeting ID: 247 436 756 242 71 \nPasscode: KA7fk7Tb
URL:https://genesisinnovationacademy.org/event/governance-committee-meeting-3/2026-12-16/
CATEGORIES:Commitee Meetings,Governance Committee
END:VEVENT
BEGIN:VEVENT
DTSTART;TZID=America/New_York:20270111T093000
DTEND;TZID=America/New_York:20270111T110000
DTSTAMP:20260421T160126
CREATED:20250513T125816Z
LAST-MODIFIED:20260413T140244Z
UID:10280-1799659800-1799665200@genesisinnovationacademy.org
SUMMARY:Academic Committee Meeting
DESCRIPTION:Microsoft Teams meeting \nJoin: https://teams.microsoft.com/meet/23844787773159?p=0bpnAWi5BE69ZERcdn \nMeeting ID: 238 447 877 731 59 \nPasscode: Zn7ec3Go
URL:https://genesisinnovationacademy.org/event/academic-committee-meeting-2-2025-09-08/2027-01-11/
CATEGORIES:Academic Excellence Committee,Commitee Meetings
END:VEVENT
BEGIN:VEVENT
DTSTART;TZID=America/New_York:20270112T180000
DTEND;TZID=America/New_York:20270112T200000
DTSTAMP:20260421T160126
CREATED:20250513T125206Z
LAST-MODIFIED:20250925T162852Z
UID:10230-1799776800-1799784000@genesisinnovationacademy.org
SUMMARY:Development Committee Meeting
DESCRIPTION:Click here to attend meeting
URL:https://genesisinnovationacademy.org/event/development-committee-meeting-2-2025-06-10/2027-01-12/
CATEGORIES:Commitee Meetings,Development Meeting
END:VEVENT
BEGIN:VEVENT
DTSTART;TZID=America/New_York:20270119T180000
DTEND;TZID=America/New_York:20270119T200000
DTSTAMP:20260421T160126
CREATED:20250513T124148Z
LAST-MODIFIED:20250925T162605Z
UID:10183-1800381600-1800388800@genesisinnovationacademy.org
SUMMARY:Finance Committee Meeting
DESCRIPTION:Click here to attend meeting
URL:https://genesisinnovationacademy.org/event/finance-committee-meeting-3/2027-01-19/
CATEGORIES:Commitee Meetings,Finance Commitee
END:VEVENT
BEGIN:VEVENT
DTSTART;TZID=America/New_York:20270120T170000
DTEND;TZID=America/New_York:20270120T190000
DTSTAMP:20260421T160126
CREATED:20250513T124540Z
LAST-MODIFIED:20260413T140353Z
UID:10205-1800464400-1800471600@genesisinnovationacademy.org
SUMMARY:Governance Committee Meeting
DESCRIPTION:Microsoft Teams meeting \nJoin: https://teams.microsoft.com/meet/24743675624271?p=7t3OMBiaow7Zxl5hYM \nMeeting ID: 247 436 756 242 71 \nPasscode: KA7fk7Tb
URL:https://genesisinnovationacademy.org/event/governance-committee-meeting-3/2027-01-20/
CATEGORIES:Commitee Meetings,Governance Committee
END:VEVENT
BEGIN:VEVENT
DTSTART;TZID=America/New_York:20270208T093000
DTEND;TZID=America/New_York:20270208T110000
DTSTAMP:20260421T160126
CREATED:20250513T125816Z
LAST-MODIFIED:20260413T140252Z
UID:10281-1802079000-1802084400@genesisinnovationacademy.org
SUMMARY:Academic Committee Meeting
DESCRIPTION:Microsoft Teams meeting \nJoin: https://teams.microsoft.com/meet/23844787773159?p=0bpnAWi5BE69ZERcdn \nMeeting ID: 238 447 877 731 59 \nPasscode: Zn7ec3Go
URL:https://genesisinnovationacademy.org/event/academic-committee-meeting-2-2025-09-08/2027-02-08/
CATEGORIES:Academic Excellence Committee,Commitee Meetings
END:VEVENT
BEGIN:VEVENT
DTSTART;TZID=America/New_York:20270209T180000
DTEND;TZID=America/New_York:20270209T200000
DTSTAMP:20260421T160126
CREATED:20250513T125206Z
LAST-MODIFIED:20250925T162853Z
UID:10231-1802196000-1802203200@genesisinnovationacademy.org
SUMMARY:Development Committee Meeting
DESCRIPTION:Click here to attend meeting
URL:https://genesisinnovationacademy.org/event/development-committee-meeting-2-2025-06-10/2027-02-09/
CATEGORIES:Commitee Meetings,Development Meeting
END:VEVENT
END:VCALENDAR