BEGIN:VCALENDAR
VERSION:2.0
PRODID:-//Genesis Innovation Academy - ECPv6.9.0//NONSGML v1.0//EN
CALSCALE:GREGORIAN
METHOD:PUBLISH
X-WR-CALNAME:Genesis Innovation Academy
X-ORIGINAL-URL:https://genesisinnovationacademy.org
X-WR-CALDESC:Events for Genesis Innovation Academy
REFRESH-INTERVAL;VALUE=DURATION:PT1H
X-Robots-Tag:noindex
X-PUBLISHED-TTL:PT1H
BEGIN:VTIMEZONE
TZID:America/New_York
BEGIN:DAYLIGHT
TZOFFSETFROM:-0500
TZOFFSETTO:-0400
TZNAME:EDT
DTSTART:20250309T070000
END:DAYLIGHT
BEGIN:STANDARD
TZOFFSETFROM:-0400
TZOFFSETTO:-0500
TZNAME:EST
DTSTART:20251102T060000
END:STANDARD
TZID:UTC
BEGIN:STANDARD
TZOFFSETFROM:+0000
TZOFFSETTO:+0000
TZNAME:UTC
DTSTART:20250101T000000
END:STANDARD
END:VTIMEZONE
BEGIN:VEVENT
DTSTART;TZID=America/New_York:20250520T180000
DTEND;TZID=America/New_York:20250520T200000
DTSTAMP:20260421T182012
CREATED:20250515T125142Z
LAST-MODIFIED:20250515T125142Z
UID:10325-1747764000-1747771200@genesisinnovationacademy.org
SUMMARY:6th-8th Grade Awards Ceremony
DESCRIPTION:
URL:https://genesisinnovationacademy.org/event/6th-8th-grade-awards-ceremony/
LOCATION:Church of Atlanta Lighthouse\, 1380 Boulevard SE\, Atlanta\, GA\, 30315\, United States
END:VEVENT
BEGIN:VEVENT
DTSTART;TZID=America/New_York:20250520T090000
DTEND;TZID=America/New_York:20250520T120000
DTSTAMP:20260421T182012
CREATED:20250515T121804Z
LAST-MODIFIED:20250515T124825Z
UID:10319-1747731600-1747742400@genesisinnovationacademy.org
SUMMARY:2nd Grade Girls’ Awards Ceremony
DESCRIPTION:
URL:https://genesisinnovationacademy.org/event/2nd-grade-awards-ceremony/
LOCATION:Cafeteria\, 1049 Custer Ave\, Atlanta\, GA\, 30316\, United States
END:VEVENT
BEGIN:VEVENT
DTSTART;TZID=America/New_York:20250519T180000
DTEND;TZID=America/New_York:20250519T200000
DTSTAMP:20260421T182012
CREATED:20250515T125251Z
LAST-MODIFIED:20250515T125251Z
UID:10327-1747677600-1747684800@genesisinnovationacademy.org
SUMMARY:3rd-5th Grade Awards Ceremony
DESCRIPTION:
URL:https://genesisinnovationacademy.org/event/3rd-5th-grade-awards-ceremony/
LOCATION:Church of Atlanta Lighthouse\, 1380 Boulevard SE\, Atlanta\, GA\, 30315\, United States
END:VEVENT
BEGIN:VEVENT
DTSTART;TZID=America/New_York:20250516T090000
DTEND;TZID=America/New_York:20250516T110000
DTSTAMP:20260421T182012
CREATED:20250515T125832Z
LAST-MODIFIED:20250515T125832Z
UID:10331-1747386000-1747393200@genesisinnovationacademy.org
SUMMARY:Kindergarten Awards Ceremony
DESCRIPTION:
URL:https://genesisinnovationacademy.org/event/kindergarten-awards-ceremony/
END:VEVENT
BEGIN:VEVENT
DTSTART;VALUE=DATE:20250515
DTEND;VALUE=DATE:20250519
DTSTAMP:20260421T182012
CREATED:20250515T121550Z
LAST-MODIFIED:20250515T121550Z
UID:10317-1747267200-1747612799@genesisinnovationacademy.org
SUMMARY:8th grade powHER New York Trip
DESCRIPTION:
URL:https://genesisinnovationacademy.org/event/8th-grade-powher-new-york-trip/
END:VEVENT
BEGIN:VEVENT
DTSTART;TZID=UTC:20250514T180000
DTEND;TZID=UTC:20250514T200000
DTSTAMP:20260421T182012
CREATED:20200815T211016Z
LAST-MODIFIED:20240721T182423Z
UID:8948-1747245600-1747252800@genesisinnovationacademy.org
SUMMARY:Finance Committee
DESCRIPTION:Click here to access the meeting 
URL:https://genesisinnovationacademy.org/event/finance-committee-2025-05-20/
LOCATION:Online
CATEGORIES:Finance Commitee
END:VEVENT
BEGIN:VEVENT
DTSTART;TZID=America/New_York:20250514T170000
DTEND;TZID=America/New_York:20250514T190000
DTSTAMP:20260421T182012
CREATED:20200811T212158Z
LAST-MODIFIED:20240721T182920Z
UID:8943-1747242000-1747249200@genesisinnovationacademy.org
SUMMARY:Governance Committee
DESCRIPTION:Click here to access the meeting. 
URL:https://genesisinnovationacademy.org/event/governance-committee-meeting-2025-05-21/
LOCATION:Online
CATEGORIES:Commitee Meetings,Governance Committee
END:VEVENT
BEGIN:VEVENT
DTSTART;TZID=America/New_York:20250513T180000
DTEND;TZID=America/New_York:20250513T200000
DTSTAMP:20260421T182012
CREATED:20250513T125206Z
LAST-MODIFIED:20250513T125506Z
UID:10209-1747159200-1747166400@genesisinnovationacademy.org
SUMMARY:Development Committee Meeting(Cancelled)
DESCRIPTION:
URL:https://genesisinnovationacademy.org/event/development-committee-meeting-2/
CATEGORIES:Commitee Meetings,Development Meeting
END:VEVENT
BEGIN:VEVENT
DTSTART;TZID=America/New_York:20250512T093000
DTEND;TZID=America/New_York:20250512T110000
DTSTAMP:20260421T182012
CREATED:20240507T162631Z
LAST-MODIFIED:20250506T135250Z
UID:8581-1747042200-1747047600@genesisinnovationacademy.org
SUMMARY:Academic Committee Meeting(Cancelled)
DESCRIPTION:Click here to access the meeting. 
URL:https://genesisinnovationacademy.org/event/academic-committee-meeting-2025-05-12/
CATEGORIES:Academic Excellence Committee,Commitee Meetings
END:VEVENT
BEGIN:VEVENT
DTSTART;TZID=America/New_York:20250509T190000
DTEND;TZID=America/New_York:20250509T230000
DTSTAMP:20260421T182012
CREATED:20250430T161134Z
LAST-MODIFIED:20250430T161134Z
UID:10118-1746817200-1746831600@genesisinnovationacademy.org
SUMMARY:8th Grade Dance
DESCRIPTION:
URL:https://genesisinnovationacademy.org/event/8th-grade-dance-2/
END:VEVENT
BEGIN:VEVENT
DTSTART;VALUE=DATE:20250509
DTEND;VALUE=DATE:20250510
DTSTAMP:20260421T182012
CREATED:20250430T161303Z
LAST-MODIFIED:20250430T161303Z
UID:10120-1746748800-1746835199@genesisinnovationacademy.org
SUMMARY:Asynchronus Day
DESCRIPTION:
URL:https://genesisinnovationacademy.org/event/asynchronus-day/
END:VEVENT
BEGIN:VEVENT
DTSTART;TZID=America/New_York:20250508T080000
DTEND;TZID=America/New_York:20250508T100000
DTSTAMP:20260421T182012
CREATED:20250430T160929Z
LAST-MODIFIED:20250430T160929Z
UID:10112-1746691200-1746698400@genesisinnovationacademy.org
SUMMARY:Scholar of the Month
DESCRIPTION:
URL:https://genesisinnovationacademy.org/event/scholar-of-the-month/
END:VEVENT
BEGIN:VEVENT
DTSTART;VALUE=DATE:20250508
DTEND;VALUE=DATE:20250509
DTSTAMP:20260421T182012
CREATED:20250430T161013Z
LAST-MODIFIED:20250430T161013Z
UID:10114-1746662400-1746748799@genesisinnovationacademy.org
SUMMARY:Mini Gems Banquet
DESCRIPTION:
URL:https://genesisinnovationacademy.org/event/mini-gems-banquet/
END:VEVENT
BEGIN:VEVENT
DTSTART;TZID=America/New_York:20250505T080000
DTEND;TZID=America/New_York:20250509T170000
DTSTAMP:20260421T182012
CREATED:20250430T161648Z
LAST-MODIFIED:20250430T161648Z
UID:10126-1746432000-1746810000@genesisinnovationacademy.org
SUMMARY:Teacher Appreciation Week
DESCRIPTION:
URL:https://genesisinnovationacademy.org/event/teacher-appreciation-week/
END:VEVENT
BEGIN:VEVENT
DTSTART;VALUE=DATE:20250502
DTEND;VALUE=DATE:20250503
DTSTAMP:20260421T182012
CREATED:20250430T161045Z
LAST-MODIFIED:20250430T161045Z
UID:10116-1746144000-1746230399@genesisinnovationacademy.org
SUMMARY:Cheer Banquet
DESCRIPTION:
URL:https://genesisinnovationacademy.org/event/cheer-banquet/
END:VEVENT
BEGIN:VEVENT
DTSTART;TZID=America/New_York:20250429T180000
DTEND;TZID=America/New_York:20250429T200000
DTSTAMP:20260421T182012
CREATED:20250429T113132Z
LAST-MODIFIED:20250429T113132Z
UID:10107-1745949600-1745956800@genesisinnovationacademy.org
SUMMARY:Called Board Meeting
DESCRIPTION:
URL:https://genesisinnovationacademy.org/event/called-board-meeting-3/
CATEGORIES:Board Meetings
END:VEVENT
BEGIN:VEVENT
DTSTART;VALUE=DATE:20250426
DTEND;VALUE=DATE:20250427
DTSTAMP:20260421T182012
CREATED:20250312T142838Z
LAST-MODIFIED:20250312T143050Z
UID:10005-1745625600-1745711999@genesisinnovationacademy.org
SUMMARY:GA MS State Champs
DESCRIPTION:
URL:https://genesisinnovationacademy.org/event/ga-ms-state-champs-2/
LOCATION:Parkview High School\, 998 Cole Lane\, Lilburn\, GA\, 30047
CATEGORIES:Athletics,Track
END:VEVENT
BEGIN:VEVENT
DTSTART;VALUE=DATE:20250425
DTEND;VALUE=DATE:20250426
DTSTAMP:20260421T182012
CREATED:20250312T142653Z
LAST-MODIFIED:20250312T142653Z
UID:10002-1745539200-1745625599@genesisinnovationacademy.org
SUMMARY:GA MS State Champs
DESCRIPTION:
URL:https://genesisinnovationacademy.org/event/ga-ms-state-champs/
LOCATION:Parkview High School\, 998 Cole Lane\, Lilburn\, GA\, 30047
CATEGORIES:Athletics,Track
END:VEVENT
BEGIN:VEVENT
DTSTART;TZID=America/New_York:20250424T190000
DTEND;TZID=America/New_York:20250424T210000
DTSTAMP:20260421T182012
CREATED:20200811T210920Z
LAST-MODIFIED:20250331T181326Z
UID:9252-1745521200-1745528400@genesisinnovationacademy.org
SUMMARY:Board Meeting
DESCRIPTION:This is a meeting for the public. It will not be virtual.
URL:https://genesisinnovationacademy.org/event/august-27-2020-board-meeting-2025-04-24/
LOCATION:Cafeteria\, 1049 Custer Ave\, Atlanta\, GA\, 30316\, United States
CATEGORIES:Board Meetings
END:VEVENT
BEGIN:VEVENT
DTSTART;TZID=America/New_York:20250422T093000
DTEND;TZID=America/New_York:20250422T110000
DTSTAMP:20260421T182012
CREATED:20240507T162631Z
LAST-MODIFIED:20250421T175156Z
UID:8580-1745314200-1745319600@genesisinnovationacademy.org
SUMMARY:Academic Committee Meeting(Cancelled)
DESCRIPTION:Click here to access the meeting. 
URL:https://genesisinnovationacademy.org/event/academic-committee-meeting-2025-04-14/
CATEGORIES:Academic Excellence Committee,Commitee Meetings
END:VEVENT
BEGIN:VEVENT
DTSTART;TZID=America/New_York:20250419T120000
DTEND;TZID=America/New_York:20250419T140000
DTSTAMP:20260421T182012
CREATED:20250311T145636Z
LAST-MODIFIED:20250311T145636Z
UID:9978-1745064000-1745071200@genesisinnovationacademy.org
SUMMARY:Warriors Baseball vs Bear Creek
DESCRIPTION:
URL:https://genesisinnovationacademy.org/event/warriors-baseball-vs-bear-creek/
LOCATION:Carver YMCA\, 1600 Pryor Rd SW\, Atlanta\, GA\, 30315\, United States
CATEGORIES:Athletics,Baseball
END:VEVENT
BEGIN:VEVENT
DTSTART;TZID=UTC:20250417T180000
DTEND;TZID=UTC:20250417T200000
DTSTAMP:20260421T182012
CREATED:20200815T211016Z
LAST-MODIFIED:20250414T164538Z
UID:8947-1744912800-1744920000@genesisinnovationacademy.org
SUMMARY:Finance Committee
DESCRIPTION:Click here to access the meeting 
URL:https://genesisinnovationacademy.org/event/finance-committee-2025-04-15/
LOCATION:Online
CATEGORIES:Finance Commitee
END:VEVENT
BEGIN:VEVENT
DTSTART;TZID=America/New_York:20250416T180000
DTEND;TZID=America/New_York:20250416T200000
DTSTAMP:20260421T182012
CREATED:20250311T145521Z
LAST-MODIFIED:20250311T145521Z
UID:9976-1744826400-1744833600@genesisinnovationacademy.org
SUMMARY:Warriors Baseball vs Price
DESCRIPTION:
URL:https://genesisinnovationacademy.org/event/warriors-baseball-vs-price/
LOCATION:Carver YMCA\, 1600 Pryor Rd SW\, Atlanta\, GA\, 30315\, United States
CATEGORIES:Athletics,Baseball
END:VEVENT
BEGIN:VEVENT
DTSTART;TZID=America/New_York:20250416T170000
DTEND;TZID=America/New_York:20250416T190000
DTSTAMP:20260421T182012
CREATED:20250203T192641Z
LAST-MODIFIED:20250203T193416Z
UID:9878-1744822800-1744830000@genesisinnovationacademy.org
SUMMARY:Governance Meeting
DESCRIPTION:Click here to access the meeting. 
URL:https://genesisinnovationacademy.org/event/governance-meeting/2025-04-16/
CATEGORIES:Commitee Meetings,Governance Committee
END:VEVENT
BEGIN:VEVENT
DTSTART;TZID=America/New_York:20250415T180000
DTEND;TZID=America/New_York:20250415T200000
DTSTAMP:20260421T182012
CREATED:20200811T212158Z
LAST-MODIFIED:20250331T124408Z
UID:9863-1744740000-1744747200@genesisinnovationacademy.org
SUMMARY:Development Committee
DESCRIPTION:Click here for meeting. 
URL:https://genesisinnovationacademy.org/event/governance-committee-meeting-2025-01-15-2-2025-04-16/
LOCATION:Online
CATEGORIES:Development Meeting
END:VEVENT
BEGIN:VEVENT
DTSTART;TZID=America/New_York:20250415T140000
DTEND;TZID=America/New_York:20250415T160000
DTSTAMP:20260421T182012
CREATED:20250311T145405Z
LAST-MODIFIED:20250311T145405Z
UID:9974-1744725600-1744732800@genesisinnovationacademy.org
SUMMARY:Warriors Baseball vs AYA
DESCRIPTION:
URL:https://genesisinnovationacademy.org/event/warriors-baseball-vs-aya/
LOCATION:Carver YMCA\, 1600 Pryor Rd SW\, Atlanta\, GA\, 30315\, United States
CATEGORIES:Athletics,Baseball
END:VEVENT
BEGIN:VEVENT
DTSTART;TZID=America/New_York:20250405T183000
DTEND;TZID=America/New_York:20250405T203000
DTSTAMP:20260421T182012
CREATED:20250311T145231Z
LAST-MODIFIED:20250311T145231Z
UID:9972-1743877800-1743885000@genesisinnovationacademy.org
SUMMARY:Warriors Baseball vs Kipp West
DESCRIPTION:
URL:https://genesisinnovationacademy.org/event/warriors-baseball-vs-kipp-west/
LOCATION:Carver YMCA\, 1600 Pryor Rd SW\, Atlanta\, GA\, 30315\, United States
CATEGORIES:Athletics,Baseball
END:VEVENT
BEGIN:VEVENT
DTSTART;TZID=America/New_York:20250403T183000
DTEND;TZID=America/New_York:20250403T203000
DTSTAMP:20260421T182012
CREATED:20250311T145117Z
LAST-MODIFIED:20250311T145117Z
UID:9970-1743705000-1743712200@genesisinnovationacademy.org
SUMMARY:Warriors Baseball vs Renaissance
DESCRIPTION:
URL:https://genesisinnovationacademy.org/event/warriors-baseball-vs-renaissance/
LOCATION:Gresham Park\, 2466 Bouldercrest Rd\, Atlanta\, GA\, 30316\, United States
CATEGORIES:Athletics,Baseball
END:VEVENT
BEGIN:VEVENT
DTSTART;TZID=America/New_York:20250329T120000
DTEND;TZID=America/New_York:20250329T140000
DTSTAMP:20260421T182012
CREATED:20250311T144943Z
LAST-MODIFIED:20250311T145003Z
UID:9968-1743249600-1743256800@genesisinnovationacademy.org
SUMMARY:Warriors Baseball vs Smart
DESCRIPTION:
URL:https://genesisinnovationacademy.org/event/warriors-baseball-vs-smart/
LOCATION:Carver YMCA\, 1600 Pryor Rd SW\, Atlanta\, GA\, 30315\, United States
CATEGORIES:Athletics,Baseball
END:VEVENT
BEGIN:VEVENT
DTSTART;TZID=America/New_York:20250329T100000
DTEND;TZID=America/New_York:20250329T120000
DTSTAMP:20260421T182012
CREATED:20250311T144825Z
LAST-MODIFIED:20250311T144825Z
UID:9966-1743242400-1743249600@genesisinnovationacademy.org
SUMMARY:Warriors Baseball vs Sandtown
DESCRIPTION:
URL:https://genesisinnovationacademy.org/event/warriors-baseball-vs-sandtown/
LOCATION:Carver YMCA\, 1600 Pryor Rd SW\, Atlanta\, GA\, 30315\, United States
CATEGORIES:Athletics,Baseball
END:VEVENT
END:VCALENDAR