BEGIN:VCALENDAR
VERSION:2.0
PRODID:-//Genesis Innovation Academy - ECPv6.9.0//NONSGML v1.0//EN
CALSCALE:GREGORIAN
METHOD:PUBLISH
X-ORIGINAL-URL:https://genesisinnovationacademy.org
X-WR-CALDESC:Events for Genesis Innovation Academy
REFRESH-INTERVAL;VALUE=DURATION:PT1H
X-Robots-Tag:noindex
X-PUBLISHED-TTL:PT1H
BEGIN:VTIMEZONE
TZID:America/New_York
BEGIN:DAYLIGHT
TZOFFSETFROM:-0500
TZOFFSETTO:-0400
TZNAME:EDT
DTSTART:20270314T070000
END:DAYLIGHT
BEGIN:STANDARD
TZOFFSETFROM:-0400
TZOFFSETTO:-0500
TZNAME:EST
DTSTART:20271107T060000
END:STANDARD
END:VTIMEZONE
BEGIN:VEVENT
DTSTART;TZID=America/New_York:20270720T180000
DTEND;TZID=America/New_York:20270720T200000
DTSTAMP:20260421T214702
CREATED:20250513T124148Z
LAST-MODIFIED:20250925T162608Z
UID:10506-1816106400-1816113600@genesisinnovationacademy.org
SUMMARY:Finance Committee Meeting
DESCRIPTION:Click here to attend meeting
URL:https://genesisinnovationacademy.org/event/finance-committee-meeting-3/2027-07-20/
CATEGORIES:Commitee Meetings,Finance Commitee
END:VEVENT
BEGIN:VEVENT
DTSTART;TZID=America/New_York:20270721T170000
DTEND;TZID=America/New_York:20270721T190000
DTSTAMP:20260421T214702
CREATED:20250513T124540Z
LAST-MODIFIED:20260413T140356Z
UID:10511-1816189200-1816196400@genesisinnovationacademy.org
SUMMARY:Governance Committee Meeting
DESCRIPTION:Microsoft Teams meeting \nJoin: https://teams.microsoft.com/meet/24743675624271?p=7t3OMBiaow7Zxl5hYM \nMeeting ID: 247 436 756 242 71 \nPasscode: KA7fk7Tb
URL:https://genesisinnovationacademy.org/event/governance-committee-meeting-3/2027-07-21/
CATEGORIES:Commitee Meetings,Governance Committee
END:VEVENT
END:VCALENDAR