BEGIN:VCALENDAR
VERSION:2.0
PRODID:-//Genesis Innovation Academy - ECPv6.9.0//NONSGML v1.0//EN
CALSCALE:GREGORIAN
METHOD:PUBLISH
X-WR-CALNAME:Genesis Innovation Academy
X-ORIGINAL-URL:https://genesisinnovationacademy.org
X-WR-CALDESC:Events for Genesis Innovation Academy
REFRESH-INTERVAL;VALUE=DURATION:PT1H
X-Robots-Tag:noindex
X-PUBLISHED-TTL:PT1H
BEGIN:VTIMEZONE
TZID:America/New_York
BEGIN:DAYLIGHT
TZOFFSETFROM:-0500
TZOFFSETTO:-0400
TZNAME:EDT
DTSTART:20250309T070000
END:DAYLIGHT
BEGIN:STANDARD
TZOFFSETFROM:-0400
TZOFFSETTO:-0500
TZNAME:EST
DTSTART:20251102T060000
END:STANDARD
TZID:UTC
BEGIN:STANDARD
TZOFFSETFROM:+0000
TZOFFSETTO:+0000
TZNAME:UTC
DTSTART:20250101T000000
END:STANDARD
END:VTIMEZONE
BEGIN:VEVENT
DTSTART;TZID=America/New_York:20250416T170000
DTEND;TZID=America/New_York:20250416T190000
DTSTAMP:20260421T214028
CREATED:20250203T192641Z
LAST-MODIFIED:20250203T193416Z
UID:9878-1744822800-1744830000@genesisinnovationacademy.org
SUMMARY:Governance Meeting
DESCRIPTION:Click here to access the meeting. 
URL:https://genesisinnovationacademy.org/event/governance-meeting/2025-04-16/
CATEGORIES:Commitee Meetings,Governance Committee
END:VEVENT
BEGIN:VEVENT
DTSTART;TZID=America/New_York:20250415T180000
DTEND;TZID=America/New_York:20250415T200000
DTSTAMP:20260421T214028
CREATED:20200811T212158Z
LAST-MODIFIED:20250331T124408Z
UID:9863-1744740000-1744747200@genesisinnovationacademy.org
SUMMARY:Development Committee
DESCRIPTION:Click here for meeting. 
URL:https://genesisinnovationacademy.org/event/governance-committee-meeting-2025-01-15-2-2025-04-16/
LOCATION:Online
CATEGORIES:Development Meeting
END:VEVENT
BEGIN:VEVENT
DTSTART;TZID=America/New_York:20250415T140000
DTEND;TZID=America/New_York:20250415T160000
DTSTAMP:20260421T214028
CREATED:20250311T145405Z
LAST-MODIFIED:20250311T145405Z
UID:9974-1744725600-1744732800@genesisinnovationacademy.org
SUMMARY:Warriors Baseball vs AYA
DESCRIPTION:
URL:https://genesisinnovationacademy.org/event/warriors-baseball-vs-aya/
LOCATION:Carver YMCA\, 1600 Pryor Rd SW\, Atlanta\, GA\, 30315\, United States
CATEGORIES:Athletics,Baseball
END:VEVENT
BEGIN:VEVENT
DTSTART;TZID=America/New_York:20250405T183000
DTEND;TZID=America/New_York:20250405T203000
DTSTAMP:20260421T214029
CREATED:20250311T145231Z
LAST-MODIFIED:20250311T145231Z
UID:9972-1743877800-1743885000@genesisinnovationacademy.org
SUMMARY:Warriors Baseball vs Kipp West
DESCRIPTION:
URL:https://genesisinnovationacademy.org/event/warriors-baseball-vs-kipp-west/
LOCATION:Carver YMCA\, 1600 Pryor Rd SW\, Atlanta\, GA\, 30315\, United States
CATEGORIES:Athletics,Baseball
END:VEVENT
BEGIN:VEVENT
DTSTART;TZID=America/New_York:20250403T183000
DTEND;TZID=America/New_York:20250403T203000
DTSTAMP:20260421T214029
CREATED:20250311T145117Z
LAST-MODIFIED:20250311T145117Z
UID:9970-1743705000-1743712200@genesisinnovationacademy.org
SUMMARY:Warriors Baseball vs Renaissance
DESCRIPTION:
URL:https://genesisinnovationacademy.org/event/warriors-baseball-vs-renaissance/
LOCATION:Gresham Park\, 2466 Bouldercrest Rd\, Atlanta\, GA\, 30316\, United States
CATEGORIES:Athletics,Baseball
END:VEVENT
BEGIN:VEVENT
DTSTART;TZID=America/New_York:20250329T120000
DTEND;TZID=America/New_York:20250329T140000
DTSTAMP:20260421T214029
CREATED:20250311T144943Z
LAST-MODIFIED:20250311T145003Z
UID:9968-1743249600-1743256800@genesisinnovationacademy.org
SUMMARY:Warriors Baseball vs Smart
DESCRIPTION:
URL:https://genesisinnovationacademy.org/event/warriors-baseball-vs-smart/
LOCATION:Carver YMCA\, 1600 Pryor Rd SW\, Atlanta\, GA\, 30315\, United States
CATEGORIES:Athletics,Baseball
END:VEVENT
BEGIN:VEVENT
DTSTART;TZID=America/New_York:20250329T100000
DTEND;TZID=America/New_York:20250329T120000
DTSTAMP:20260421T214029
CREATED:20250311T144825Z
LAST-MODIFIED:20250311T144825Z
UID:9966-1743242400-1743249600@genesisinnovationacademy.org
SUMMARY:Warriors Baseball vs Sandtown
DESCRIPTION:
URL:https://genesisinnovationacademy.org/event/warriors-baseball-vs-sandtown/
LOCATION:Carver YMCA\, 1600 Pryor Rd SW\, Atlanta\, GA\, 30315\, United States
CATEGORIES:Athletics,Baseball
END:VEVENT
BEGIN:VEVENT
DTSTART;TZID=America/New_York:20250329T090000
DTEND;TZID=America/New_York:20250329T170000
DTSTAMP:20260421T214029
CREATED:20250312T142530Z
LAST-MODIFIED:20250312T142530Z
UID:9999-1743238800-1743267600@genesisinnovationacademy.org
SUMMARY:Trinity Invitational
DESCRIPTION:
URL:https://genesisinnovationacademy.org/event/trinity-invitational/
LOCATION:Trinity Christian School\, 8817 GA-54\, Sharpsburg\, GA\, 30277
CATEGORIES:Athletics,Track
END:VEVENT
BEGIN:VEVENT
DTSTART;VALUE=DATE:20250327
DTEND;VALUE=DATE:20250328
DTSTAMP:20260421T214029
CREATED:20250312T143440Z
LAST-MODIFIED:20250312T143452Z
UID:10007-1743033600-1743119999@genesisinnovationacademy.org
SUMMARY:8th Grade Portraits
DESCRIPTION:
URL:https://genesisinnovationacademy.org/event/8th-grade-portraits/
END:VEVENT
BEGIN:VEVENT
DTSTART;TZID=America/New_York:20250325T180000
DTEND;TZID=America/New_York:20250325T200000
DTSTAMP:20260421T214029
CREATED:20250311T144649Z
LAST-MODIFIED:20250311T144649Z
UID:9964-1742925600-1742932800@genesisinnovationacademy.org
SUMMARY:Warriors Baseball vs Drew
DESCRIPTION:
URL:https://genesisinnovationacademy.org/event/warriors-baseball-vs-drew/
LOCATION:Carver YMCA\, 1600 Pryor Rd SW\, Atlanta\, GA\, 30315\, United States
CATEGORIES:Athletics,Baseball
END:VEVENT
BEGIN:VEVENT
DTSTART;TZID=America/New_York:20250325T170000
DTEND;TZID=America/New_York:20250325T230000
DTSTAMP:20260421T214029
CREATED:20250312T142326Z
LAST-MODIFIED:20250312T142326Z
UID:9997-1742922000-1742943600@genesisinnovationacademy.org
SUMMARY:Boys & Girls APS MS Finals
DESCRIPTION:
URL:https://genesisinnovationacademy.org/event/boys-girls-aps-ms-finals/
LOCATION:Lakewood Stadium\, 70 Claire Dr\, Atlanta\, GA\, 30315
CATEGORIES:Athletics,Track
END:VEVENT
BEGIN:VEVENT
DTSTART;VALUE=DATE:20250321
DTEND;VALUE=DATE:20250322
DTSTAMP:20260421T214029
CREATED:20250312T140808Z
LAST-MODIFIED:20250312T140808Z
UID:9987-1742515200-1742601599@genesisinnovationacademy.org
SUMMARY:Spring Picture Day
DESCRIPTION:
URL:https://genesisinnovationacademy.org/event/spring-picture-day-2/
LOCATION:Cafeteria\, 1049 Custer Ave\, Atlanta\, GA\, 30316\, United States
END:VEVENT
BEGIN:VEVENT
DTSTART;TZID=America/New_York:20250320T180000
DTEND;TZID=America/New_York:20250320T200000
DTSTAMP:20260421T214029
CREATED:20250311T144516Z
LAST-MODIFIED:20250311T144530Z
UID:9961-1742493600-1742500800@genesisinnovationacademy.org
SUMMARY:Warriors Baseball vs Kindezi Elite
DESCRIPTION:
URL:https://genesisinnovationacademy.org/event/warriors-vs-kindezi-elite/
LOCATION:Carver YMCA\, 1600 Pryor Rd SW\, Atlanta\, GA\, 30315\, United States
CATEGORIES:Athletics,Baseball
END:VEVENT
BEGIN:VEVENT
DTSTART;TZID=America/New_York:20250320T170000
DTEND;TZID=America/New_York:20250320T230000
DTSTAMP:20260421T214029
CREATED:20250312T142202Z
LAST-MODIFIED:20250312T142202Z
UID:9995-1742490000-1742511600@genesisinnovationacademy.org
SUMMARY:Boys APS MS Preliminaries
DESCRIPTION:
URL:https://genesisinnovationacademy.org/event/boys-aps-ms-preliminaries/
LOCATION:Lakewood Stadium\, 70 Claire Dr\, Atlanta\, GA\, 30315
CATEGORIES:Athletics,Track
END:VEVENT
BEGIN:VEVENT
DTSTART;TZID=America/New_York:20250319T170000
DTEND;TZID=America/New_York:20250319T190000
DTSTAMP:20260421T214029
CREATED:20250203T192641Z
LAST-MODIFIED:20250203T193415Z
UID:9877-1742403600-1742410800@genesisinnovationacademy.org
SUMMARY:Governance Meeting
DESCRIPTION:Click here to access the meeting. 
URL:https://genesisinnovationacademy.org/event/governance-meeting/2025-03-19/
CATEGORIES:Commitee Meetings,Governance Committee
END:VEVENT
BEGIN:VEVENT
DTSTART;TZID=UTC:20250318T180000
DTEND;TZID=UTC:20250318T200000
DTSTAMP:20260421T214029
CREATED:20200815T211016Z
LAST-MODIFIED:20200815T211016Z
UID:8946-1742320800-1742328000@genesisinnovationacademy.org
SUMMARY:Finance Committee
DESCRIPTION:Click here to access the meeting 
URL:https://genesisinnovationacademy.org/event/finance-committee/2025-03-18/
LOCATION:Online
CATEGORIES:Finance Commitee
END:VEVENT
BEGIN:VEVENT
DTSTART;TZID=America/New_York:20250318T170000
DTEND;TZID=America/New_York:20250318T230000
DTSTAMP:20260421T214029
CREATED:20250312T142053Z
LAST-MODIFIED:20250312T142053Z
UID:9992-1742317200-1742338800@genesisinnovationacademy.org
SUMMARY:Girls APS MS Preliminaries
DESCRIPTION:
URL:https://genesisinnovationacademy.org/event/girls-aps-ms-preliminaries/
LOCATION:Lakewood Stadium\, 70 Claire Dr\, Atlanta\, GA\, 30315
CATEGORIES:Athletics,Track
END:VEVENT
BEGIN:VEVENT
DTSTART;TZID=America/New_York:20250315T120000
DTEND;TZID=America/New_York:20250315T140000
DTSTAMP:20260421T214029
CREATED:20250311T144323Z
LAST-MODIFIED:20250311T144415Z
UID:9958-1742040000-1742047200@genesisinnovationacademy.org
SUMMARY:Warriors Baseball vs Bunche
DESCRIPTION:
URL:https://genesisinnovationacademy.org/event/warriors-baseball-vs-bunche/
LOCATION:Therrell HS\, 3099 Panther Trail SW\, Atlanta\, GA
CATEGORIES:Athletics,Baseball
END:VEVENT
BEGIN:VEVENT
DTSTART;TZID=America/New_York:20250315T100000
DTEND;TZID=America/New_York:20250315T120000
DTSTAMP:20260421T214029
CREATED:20250311T144225Z
LAST-MODIFIED:20250311T144225Z
UID:9955-1742032800-1742040000@genesisinnovationacademy.org
SUMMARY:Warriors Baseball vs Thrive
DESCRIPTION:
URL:https://genesisinnovationacademy.org/event/warriors-baseball-vs-thrive/
LOCATION:Therrell HS\, 3099 Panther Trail SW\, Atlanta\, GA
CATEGORIES:Athletics,Baseball
END:VEVENT
BEGIN:VEVENT
DTSTART;TZID=America/New_York:20250313T183000
DTEND;TZID=America/New_York:20250313T203000
DTSTAMP:20260421T214029
CREATED:20250311T144002Z
LAST-MODIFIED:20250311T144002Z
UID:9953-1741890600-1741897800@genesisinnovationacademy.org
SUMMARY:Warriors Baseball vs ANCS
DESCRIPTION:
URL:https://genesisinnovationacademy.org/event/warriors-baseball-vs-ancs/
LOCATION:Gresham Park\, 2466 Bouldercrest Rd\, Atlanta\, GA\, 30316\, United States
CATEGORIES:Athletics,Baseball
END:VEVENT
BEGIN:VEVENT
DTSTART;TZID=America/New_York:20250313T170000
DTEND;TZID=America/New_York:20250313T230000
DTSTAMP:20260421T214029
CREATED:20250312T141918Z
LAST-MODIFIED:20250312T141918Z
UID:9989-1741885200-1741906800@genesisinnovationacademy.org
SUMMARY:Woodward MS Meet #3
DESCRIPTION:
URL:https://genesisinnovationacademy.org/event/woodward-ms-meet-3/
LOCATION:Woodward Academy\, 1662 Rugby Ave.\, College Park\, GA\, 30337
CATEGORIES:Track
END:VEVENT
BEGIN:VEVENT
DTSTART;TZID=America/New_York:20250311T180000
DTEND;TZID=America/New_York:20250311T200000
DTSTAMP:20260421T214029
CREATED:20250311T143824Z
LAST-MODIFIED:20250311T143824Z
UID:9951-1741716000-1741723200@genesisinnovationacademy.org
SUMMARY:Warriors Baseball vs Wesley
DESCRIPTION:Gresham Park \n2466 Bouldercrest Rd\, \nAtlanta\, GA
URL:https://genesisinnovationacademy.org/event/warriors-baseball-vs-wesley/
LOCATION:Gresham Park\, 2466 Bouldercrest Rd\, Atlanta\, GA\, 30316\, United States
CATEGORIES:Athletics,Baseball
END:VEVENT
BEGIN:VEVENT
DTSTART;TZID=America/New_York:20250311T180000
DTEND;TZID=America/New_York:20250311T200000
DTSTAMP:20260421T214029
CREATED:20200811T212158Z
LAST-MODIFIED:20250312T153153Z
UID:9862-1741716000-1741723200@genesisinnovationacademy.org
SUMMARY:Development Committee(Cancelled)
DESCRIPTION:Click here for meeting. 
URL:https://genesisinnovationacademy.org/event/governance-committee-meeting-2025-01-15-2-2025-03-19/
LOCATION:Online
CATEGORIES:Development Meeting
END:VEVENT
BEGIN:VEVENT
DTSTART;TZID=America/New_York:20250310T093000
DTEND;TZID=America/New_York:20250310T110000
DTSTAMP:20260421T214029
CREATED:20240507T162631Z
LAST-MODIFIED:20240626T135044Z
UID:8579-1741599000-1741604400@genesisinnovationacademy.org
SUMMARY:Academic Committee Meeting
DESCRIPTION:Click here to access the meeting. 
URL:https://genesisinnovationacademy.org/event/academic-committee-meeting/2025-03-10/
LOCATION:GA\, United States
CATEGORIES:Academic Excellence Committee,Commitee Meetings
END:VEVENT
BEGIN:VEVENT
DTSTART;TZID=America/New_York:20250219T170000
DTEND;TZID=America/New_York:20250219T190000
DTSTAMP:20260421T214029
CREATED:20250203T192641Z
LAST-MODIFIED:20250203T193415Z
UID:9876-1739984400-1739991600@genesisinnovationacademy.org
SUMMARY:Governance Meeting
DESCRIPTION:Click here to access the meeting. 
URL:https://genesisinnovationacademy.org/event/governance-meeting/2025-02-19/
CATEGORIES:Commitee Meetings,Governance Committee
END:VEVENT
BEGIN:VEVENT
DTSTART;TZID=UTC:20250218T180000
DTEND;TZID=UTC:20250218T200000
DTSTAMP:20260421T214029
CREATED:20200815T211016Z
LAST-MODIFIED:20200815T211016Z
UID:8945-1739901600-1739908800@genesisinnovationacademy.org
SUMMARY:Finance Committee
DESCRIPTION:Click here to access the meeting 
URL:https://genesisinnovationacademy.org/event/finance-committee/2025-02-18/
LOCATION:Online
CATEGORIES:Finance Commitee
END:VEVENT
BEGIN:VEVENT
DTSTART;TZID=America/New_York:20250213T093000
DTEND;TZID=America/New_York:20250213T110000
DTSTAMP:20260421T214029
CREATED:20240507T162631Z
LAST-MODIFIED:20250206T142313Z
UID:8578-1739439000-1739444400@genesisinnovationacademy.org
SUMMARY:Academic Committee Meeting
DESCRIPTION:Click here to access the meeting. 
URL:https://genesisinnovationacademy.org/event/academic-committee-meeting-2025-02-10/
CATEGORIES:Academic Excellence Committee,Commitee Meetings
END:VEVENT
BEGIN:VEVENT
DTSTART;TZID=America/New_York:20250211T180000
DTEND;TZID=America/New_York:20250211T200000
DTSTAMP:20260421T214029
CREATED:20200811T212158Z
LAST-MODIFIED:20250203T190820Z
UID:9861-1739296800-1739304000@genesisinnovationacademy.org
SUMMARY:Development Committee
DESCRIPTION:Click here for meeting. 
URL:https://genesisinnovationacademy.org/event/governance-committee-meeting-2025-01-15-2-2025-02-19/
LOCATION:Online
CATEGORIES:Commitee Meetings,Development Meeting
END:VEVENT
BEGIN:VEVENT
DTSTART;TZID=America/New_York:20250123T180000
DTEND;TZID=America/New_York:20250123T200000
DTSTAMP:20260421T214029
CREATED:20200811T210920Z
LAST-MODIFIED:20260302T140007Z
UID:10747-1737655200-1737662400@genesisinnovationacademy.org
SUMMARY:Board Meeting
DESCRIPTION:Board Meeting Access:  \n\nJoin Teams Meeting
URL:https://genesisinnovationacademy.org/event/august-27-2020-board-meeting/2025-01-23/
LOCATION:Online
CATEGORIES:Board Meetings
END:VEVENT
BEGIN:VEVENT
DTSTART;TZID=America/New_York:20250116T093000
DTEND;TZID=America/New_York:20250116T110000
DTSTAMP:20260421T214029
CREATED:20240507T162631Z
LAST-MODIFIED:20250108T195508Z
UID:8577-1737019800-1737025200@genesisinnovationacademy.org
SUMMARY:Academic Committee Meeting
DESCRIPTION:Click here to access the meeting. 
URL:https://genesisinnovationacademy.org/event/academic-committee-meeting-2025-01-13/
CATEGORIES:Academic Excellence Committee,Commitee Meetings
END:VEVENT
END:VCALENDAR