BEGIN:VCALENDAR
VERSION:2.0
PRODID:-//Genesis Innovation Academy - ECPv6.9.0//NONSGML v1.0//EN
CALSCALE:GREGORIAN
METHOD:PUBLISH
X-ORIGINAL-URL:https://genesisinnovationacademy.org
X-WR-CALDESC:Events for Genesis Innovation Academy
REFRESH-INTERVAL;VALUE=DURATION:PT1H
X-Robots-Tag:noindex
X-PUBLISHED-TTL:PT1H
BEGIN:VTIMEZONE
TZID:America/New_York
BEGIN:DAYLIGHT
TZOFFSETFROM:-0500
TZOFFSETTO:-0400
TZNAME:EDT
DTSTART:20260308T070000
END:DAYLIGHT
BEGIN:STANDARD
TZOFFSETFROM:-0400
TZOFFSETTO:-0500
TZNAME:EST
DTSTART:20261101T060000
END:STANDARD
END:VTIMEZONE
BEGIN:VEVENT
DTSTART;TZID=America/New_York:20260511T093000
DTEND;TZID=America/New_York:20260511T110000
DTSTAMP:20260421T084330
CREATED:20250513T125816Z
LAST-MODIFIED:20260413T140243Z
UID:10272-1778491800-1778497200@genesisinnovationacademy.org
SUMMARY:Academic Committee Meeting
DESCRIPTION:Microsoft Teams meeting \nJoin: https://teams.microsoft.com/meet/23844787773159?p=0bpnAWi5BE69ZERcdn \nMeeting ID: 238 447 877 731 59 \nPasscode: Zn7ec3Go
URL:https://genesisinnovationacademy.org/event/academic-committee-meeting-2-2025-09-08/2026-05-11/
LOCATION:Georgia
CATEGORIES:Academic Excellence Committee,Commitee Meetings
END:VEVENT
BEGIN:VEVENT
DTSTART;TZID=America/New_York:20260512T180000
DTEND;TZID=America/New_York:20260512T200000
DTSTAMP:20260421T084330
CREATED:20250513T125206Z
LAST-MODIFIED:20250925T162837Z
UID:10222-1778608800-1778616000@genesisinnovationacademy.org
SUMMARY:Development Committee Meeting
DESCRIPTION:Click here to attend meeting
URL:https://genesisinnovationacademy.org/event/development-committee-meeting-2-2025-06-10/2026-05-12/
LOCATION:Georgia
CATEGORIES:Commitee Meetings,Development Meeting
END:VEVENT
BEGIN:VEVENT
DTSTART;TZID=America/New_York:20260519T180000
DTEND;TZID=America/New_York:20260519T200000
DTSTAMP:20260421T084330
CREATED:20250513T124148Z
LAST-MODIFIED:20250925T162555Z
UID:10175-1779213600-1779220800@genesisinnovationacademy.org
SUMMARY:Finance Committee Meeting
DESCRIPTION:Click here to attend meeting
URL:https://genesisinnovationacademy.org/event/finance-committee-meeting-3/2026-05-19/
LOCATION:Georgia
CATEGORIES:Commitee Meetings,Finance Commitee
END:VEVENT
BEGIN:VEVENT
DTSTART;TZID=America/New_York:20260520T170000
DTEND;TZID=America/New_York:20260520T190000
DTSTAMP:20260421T084330
CREATED:20250513T124540Z
LAST-MODIFIED:20260413T140337Z
UID:10196-1779296400-1779303600@genesisinnovationacademy.org
SUMMARY:Governance Committee Meeting
DESCRIPTION:Microsoft Teams meeting \nJoin: https://teams.microsoft.com/meet/24743675624271?p=7t3OMBiaow7Zxl5hYM \nMeeting ID: 247 436 756 242 71 \nPasscode: KA7fk7Tb
URL:https://genesisinnovationacademy.org/event/governance-committee-meeting-3/2026-05-20/
LOCATION:Georgia
CATEGORIES:Commitee Meetings,Governance Committee
END:VEVENT
BEGIN:VEVENT
DTSTART;TZID=America/New_York:20260528T180000
DTEND;TZID=America/New_York:20260528T200000
DTSTAMP:20260421T084330
CREATED:20200811T210920Z
LAST-MODIFIED:20260302T140025Z
UID:10757-1779991200-1779998400@genesisinnovationacademy.org
SUMMARY:Board Meeting
DESCRIPTION:Board Meeting Access:  \n\nJoin Teams Meeting
URL:https://genesisinnovationacademy.org/event/august-27-2020-board-meeting/2026-05-28/
LOCATION:Online
CATEGORIES:Board Meetings
END:VEVENT
END:VCALENDAR