BEGIN:VCALENDAR
VERSION:2.0
PRODID:-//Genesis Innovation Academy - ECPv6.9.0//NONSGML v1.0//EN
CALSCALE:GREGORIAN
METHOD:PUBLISH
X-WR-CALNAME:Genesis Innovation Academy
X-ORIGINAL-URL:https://genesisinnovationacademy.org
X-WR-CALDESC:Events for Genesis Innovation Academy
REFRESH-INTERVAL;VALUE=DURATION:PT1H
X-Robots-Tag:noindex
X-PUBLISHED-TTL:PT1H
BEGIN:VTIMEZONE
TZID:America/New_York
BEGIN:DAYLIGHT
TZOFFSETFROM:-0500
TZOFFSETTO:-0400
TZNAME:EDT
DTSTART:20240310T070000
END:DAYLIGHT
BEGIN:STANDARD
TZOFFSETFROM:-0400
TZOFFSETTO:-0500
TZNAME:EST
DTSTART:20241103T060000
END:STANDARD
BEGIN:DAYLIGHT
TZOFFSETFROM:-0500
TZOFFSETTO:-0400
TZNAME:EDT
DTSTART:20250309T070000
END:DAYLIGHT
BEGIN:STANDARD
TZOFFSETFROM:-0400
TZOFFSETTO:-0500
TZNAME:EST
DTSTART:20251102T060000
END:STANDARD
END:VTIMEZONE
BEGIN:VEVENT
DTSTART;TZID=America/New_York:20250520T090000
DTEND;TZID=America/New_York:20250520T120000
DTSTAMP:20260425T192811
CREATED:20250515T121804Z
LAST-MODIFIED:20250515T124825Z
UID:10319-1747731600-1747742400@genesisinnovationacademy.org
SUMMARY:2nd Grade Girls’ Awards Ceremony
DESCRIPTION:
URL:https://genesisinnovationacademy.org/event/2nd-grade-awards-ceremony/
LOCATION:Cafeteria\, 1049 Custer Ave\, Atlanta\, GA\, 30316\, United States
END:VEVENT
BEGIN:VEVENT
DTSTART;TZID=America/New_York:20250424T190000
DTEND;TZID=America/New_York:20250424T210000
DTSTAMP:20260425T192811
CREATED:20200811T210920Z
LAST-MODIFIED:20250331T181326Z
UID:9252-1745521200-1745528400@genesisinnovationacademy.org
SUMMARY:Board Meeting
DESCRIPTION:This is a meeting for the public. It will not be virtual.
URL:https://genesisinnovationacademy.org/event/august-27-2020-board-meeting-2025-04-24/
LOCATION:Cafeteria\, 1049 Custer Ave\, Atlanta\, GA\, 30316\, United States
CATEGORIES:Board Meetings
END:VEVENT
BEGIN:VEVENT
DTSTART;VALUE=DATE:20250321
DTEND;VALUE=DATE:20250322
DTSTAMP:20260425T192811
CREATED:20250312T140808Z
LAST-MODIFIED:20250312T140808Z
UID:9987-1742515200-1742601599@genesisinnovationacademy.org
SUMMARY:Spring Picture Day
DESCRIPTION:
URL:https://genesisinnovationacademy.org/event/spring-picture-day-2/
LOCATION:Cafeteria\, 1049 Custer Ave\, Atlanta\, GA\, 30316\, United States
END:VEVENT
BEGIN:VEVENT
DTSTART;TZID=America/New_York:20241107T090000
DTEND;TZID=America/New_York:20241107T110000
DTSTAMP:20260425T192811
CREATED:20240912T161535Z
LAST-MODIFIED:20240912T161535Z
UID:9211-1730970000-1730977200@genesisinnovationacademy.org
SUMMARY:Scholar of The Month Recognition
DESCRIPTION:
URL:https://genesisinnovationacademy.org/event/scholar-of-the-month-recognition-3/
LOCATION:Cafeteria\, 1049 Custer Ave\, Atlanta\, GA\, 30316\, United States
END:VEVENT
BEGIN:VEVENT
DTSTART;TZID=America/New_York:20241024T170000
DTEND;TZID=America/New_York:20241024T183000
DTSTAMP:20260425T192811
CREATED:20241011T160759Z
LAST-MODIFIED:20241011T160759Z
UID:9292-1729789200-1729794600@genesisinnovationacademy.org
SUMMARY:Math\,Literacy\, and Schoology Workshop
DESCRIPTION:
URL:https://genesisinnovationacademy.org/event/mathliteracy-and-schoology-workshop/
LOCATION:Cafeteria\, 1049 Custer Ave\, Atlanta\, GA\, 30316\, United States
END:VEVENT
BEGIN:VEVENT
DTSTART;TZID=America/New_York:20241024T083000
DTEND;TZID=America/New_York:20241024T103000
DTSTAMP:20260425T192811
CREATED:20241008T154016Z
LAST-MODIFIED:20241008T154016Z
UID:9282-1729758600-1729765800@genesisinnovationacademy.org
SUMMARY:Director’s Coffee (Tentative)
DESCRIPTION:
URL:https://genesisinnovationacademy.org/event/directors-coffee-tentative/
LOCATION:Cafeteria\, 1049 Custer Ave\, Atlanta\, GA\, 30316\, United States
END:VEVENT
BEGIN:VEVENT
DTSTART;TZID=America/New_York:20241003T090000
DTEND;TZID=America/New_York:20241003T110000
DTSTAMP:20260425T192811
CREATED:20240912T151241Z
LAST-MODIFIED:20240912T151241Z
UID:9170-1727946000-1727953200@genesisinnovationacademy.org
SUMMARY:Scholar of The Month Recognition
DESCRIPTION:
URL:https://genesisinnovationacademy.org/event/scholar-of-the-month-recognition-2/
LOCATION:Cafeteria\, 1049 Custer Ave\, Atlanta\, GA\, 30316\, United States
END:VEVENT
BEGIN:VEVENT
DTSTART;TZID=America/New_York:20240919T170000
DTEND;TZID=America/New_York:20240919T190000
DTSTAMP:20260425T192811
CREATED:20240903T190601Z
LAST-MODIFIED:20240903T190601Z
UID:9091-1726765200-1726772400@genesisinnovationacademy.org
SUMMARY:Title I Meeting
DESCRIPTION:
URL:https://genesisinnovationacademy.org/event/title-i-meeting/
LOCATION:Cafeteria\, 1049 Custer Ave\, Atlanta\, GA\, 30316\, United States
END:VEVENT
BEGIN:VEVENT
DTSTART;TZID=America/New_York:20240905T090000
DTEND;TZID=America/New_York:20240905T110000
DTSTAMP:20260425T192811
CREATED:20240826T143059Z
LAST-MODIFIED:20240826T143059Z
UID:9066-1725526800-1725534000@genesisinnovationacademy.org
SUMMARY:Scholar of the Month Recognition
DESCRIPTION:
URL:https://genesisinnovationacademy.org/event/scholar-of-the-month-recognition/
LOCATION:Cafeteria\, 1049 Custer Ave\, Atlanta\, GA\, 30316\, United States
END:VEVENT
BEGIN:VEVENT
DTSTART;TZID=America/New_York:20240829T170000
DTEND;TZID=America/New_York:20240829T180000
DTSTAMP:20260425T192811
CREATED:20240826T142550Z
LAST-MODIFIED:20240826T142550Z
UID:9057-1724950800-1724954400@genesisinnovationacademy.org
SUMMARY:Schoology Parent Workshop
DESCRIPTION:
URL:https://genesisinnovationacademy.org/event/schoology-parent-workshop/
LOCATION:Cafeteria\, 1049 Custer Ave\, Atlanta\, GA\, 30316\, United States
END:VEVENT
END:VCALENDAR